BEGIN:VCALENDAR
VERSION:2.0
PRODID:-//New Spiritual Horizons - ECPv6.15.16.1//NONSGML v1.0//EN
CALSCALE:GREGORIAN
METHOD:PUBLISH
X-ORIGINAL-URL:https://newspiritualhorizons.com
X-WR-CALDESC:Events for New Spiritual Horizons
REFRESH-INTERVAL;VALUE=DURATION:PT1H
X-Robots-Tag:noindex
X-PUBLISHED-TTL:PT1H
BEGIN:VTIMEZONE
TZID:America/New_York
BEGIN:DAYLIGHT
TZOFFSETFROM:-0500
TZOFFSETTO:-0400
TZNAME:EDT
DTSTART:20150308T070000
END:DAYLIGHT
BEGIN:STANDARD
TZOFFSETFROM:-0400
TZOFFSETTO:-0500
TZNAME:EST
DTSTART:20151101T060000
END:STANDARD
BEGIN:DAYLIGHT
TZOFFSETFROM:-0500
TZOFFSETTO:-0400
TZNAME:EDT
DTSTART:20160313T070000
END:DAYLIGHT
BEGIN:STANDARD
TZOFFSETFROM:-0400
TZOFFSETTO:-0500
TZNAME:EST
DTSTART:20161106T060000
END:STANDARD
BEGIN:DAYLIGHT
TZOFFSETFROM:-0500
TZOFFSETTO:-0400
TZNAME:EDT
DTSTART:20170312T070000
END:DAYLIGHT
BEGIN:STANDARD
TZOFFSETFROM:-0400
TZOFFSETTO:-0500
TZNAME:EST
DTSTART:20171105T060000
END:STANDARD
END:VTIMEZONE
BEGIN:VEVENT
DTSTART;TZID=America/New_York:20161024T190000
DTEND;TZID=America/New_York:20161024T213000
DTSTAMP:20260423T003225
CREATED:20171113T120054Z
LAST-MODIFIED:20180131T131607Z
UID:2646-1477335600-1477344600@newspiritualhorizons.com
SUMMARY:NEW SPIRITUAL HORIZONS Technique Series
DESCRIPTION:Starts Mon.\, Oct 24\, 2016 – 4 PM Pacific Standard Time (PST) –  7 PM Eastern Standard Time (EST)\nBenefits and outcomes of this technique series:\n\nMaking clear angel communication a way of life                                                                                              \nLearning meditation techniques for meditation made simple                                                                            \nHealing yourself through understanding                                                                                                          \nFinding direction in your life’s purpose\nEstablishing your feelings of belonging\nUnfolding your gifts of clairaudience\, clairvoyance\, prophecy and feeling\nDiscovering inklings of where you come from\, where you are going and what you are doing here \nOvercoming doubts\n Understanding your crystal clear motives to connect clearly with your good positive energy\, your true genius and team of angels. \n\nThis program is not a discussion group\, but an active\, weekly program that leaves people feeling energized and renewed\, with new information about themselves and their spiritual and material direction.\nFee: $12.00 (US dollars) per session.\nPrerequisite: Participants need to have attended at an Exploring Inner Dynamics Workshop\, or other IPM workshop or course.\nNote: If you have not had these prerequisites they are scheduled in certain communities or on-line.\nThis series is being facilitated by Patrick Kilhenny and Estelle Small\, both trained and certified by Wayshowers College\n \nEstelle Small \n\n \nPatrick Kilhenny \n\nTo find out more and Register – EMAIL Estelle\nor call 917-328-8950 (dial 001 if you are outside North America).
URL:https://newspiritualhorizons.com/event/new-spiritual-horizons-technique-series/
LOCATION:ONLINE OR IN PERSON\, United States
CATEGORIES:Lectures & Workshops
ATTACH;FMTTYPE=image/png:https://www.wayshowerscollege.net/nsh01/wp-content/uploads/sites/3/2017/11/nsh-logo-submersion.png
GEO:37.09024;-95.712891
END:VEVENT
END:VCALENDAR