BEGIN:VCALENDAR
VERSION:2.0
PRODID:-//New Spiritual Horizons - ECPv6.15.16.1//NONSGML v1.0//EN
CALSCALE:GREGORIAN
METHOD:PUBLISH
X-ORIGINAL-URL:https://newspiritualhorizons.com
X-WR-CALDESC:Events for New Spiritual Horizons
REFRESH-INTERVAL;VALUE=DURATION:PT1H
X-Robots-Tag:noindex
X-PUBLISHED-TTL:PT1H
BEGIN:VTIMEZONE
TZID:America/New_York
BEGIN:DAYLIGHT
TZOFFSETFROM:-0500
TZOFFSETTO:-0400
TZNAME:EDT
DTSTART:20190310T070000
END:DAYLIGHT
BEGIN:STANDARD
TZOFFSETFROM:-0400
TZOFFSETTO:-0500
TZNAME:EST
DTSTART:20191103T060000
END:STANDARD
BEGIN:DAYLIGHT
TZOFFSETFROM:-0500
TZOFFSETTO:-0400
TZNAME:EDT
DTSTART:20200308T070000
END:DAYLIGHT
BEGIN:STANDARD
TZOFFSETFROM:-0400
TZOFFSETTO:-0500
TZNAME:EST
DTSTART:20201101T060000
END:STANDARD
BEGIN:DAYLIGHT
TZOFFSETFROM:-0500
TZOFFSETTO:-0400
TZNAME:EDT
DTSTART:20210314T070000
END:DAYLIGHT
BEGIN:STANDARD
TZOFFSETFROM:-0400
TZOFFSETTO:-0500
TZNAME:EST
DTSTART:20211107T060000
END:STANDARD
END:VTIMEZONE
BEGIN:VTIMEZONE
TZID:America/New_York
BEGIN:DAYLIGHT
TZOFFSETFROM:-0500
TZOFFSETTO:-0400
TZNAME:EDT
DTSTART:20160313T070000
END:DAYLIGHT
BEGIN:STANDARD
TZOFFSETFROM:-0400
TZOFFSETTO:-0500
TZNAME:EST
DTSTART:20161106T060000
END:STANDARD
BEGIN:DAYLIGHT
TZOFFSETFROM:-0500
TZOFFSETTO:-0400
TZNAME:EDT
DTSTART:20170312T070000
END:DAYLIGHT
BEGIN:STANDARD
TZOFFSETFROM:-0400
TZOFFSETTO:-0500
TZNAME:EST
DTSTART:20171105T060000
END:STANDARD
BEGIN:DAYLIGHT
TZOFFSETFROM:-0500
TZOFFSETTO:-0400
TZNAME:EDT
DTSTART:20180311T070000
END:DAYLIGHT
BEGIN:STANDARD
TZOFFSETFROM:-0400
TZOFFSETTO:-0500
TZNAME:EST
DTSTART:20181104T060000
END:STANDARD
END:VTIMEZONE
BEGIN:VEVENT
DTSTART;TZID=America/New_York:20200216T090000
DTEND;TZID=America/New_York:20200216T180000
DTSTAMP:20260422T191137
CREATED:20200207T154302Z
LAST-MODIFIED:20200207T154302Z
UID:215007-1581843600-1581876000@newspiritualhorizons.com
SUMMARY:Submersion Facet I: Re-Ignite Your Inner Spark
DESCRIPTION:You have everything you need within to accomplish anything you set your mind to. Your inner spark comes from true desire\, what you REALLY want and then the willingness to take the next step. \nWhen is the last time you took a sincere look at your life and decided for yourself the direction you truly want? \nWhen is the last time you felt crystal clear about your purpose? \nDo you have a need to feel more inner peace and freedom in the day to day? \nThis 1-day workshop is for you. \nSo many of us have built up a strong intellect\, experienced the wear&tear of adulting and have failed to work with our true feelings. The result being a dimming of your light\, a lack of inner drive and little to no sense of purpose. \nNo need to fear whats inside of you\, your a creator among creators and are capable of wielding your power for the good of everyone your involved with. \nThe answer to accessing your power lies in clarifying what drives you. Defining for yourself why you get out of bed in the morning? \nRecent Workshop Participant said:\n“During my soul searching journey\, I came across an invitation to attend an soul retreat. I knew this was an opportunity that showed up just for me\, and I felt compelled to attend. So I did! This workshop was the first facet of New Spiritual Horizons’ Submersion Workshop. Three beautiful\, soulful\, spiritually gifted women led the workshops. There is not enough paper to express what I learned in those two days. Let’s just say…IT WAS TRANSFORMATIONAL!” \nThis is the first in four facets of New Spiritual Horizons\, a workshop series for people who are ready to grow and transform their thinking from fear based concepts to freedom based concepts. \n~~~~~~~~~~~~~~~~~~~~~~~~~~ \nWhat to Expect:\nBe ready in exploring the “big picture” of the real you in this dynamic full day experience. \nStart setting your New Spiritual Horizons in your soul’s direction\, understand your natural psychic abilities\, tap into your inner guidance\, and spiritual gifts! \nWhat will you leave with: \n\nA technique for refining your vibration for reduction of stress/anxiety and connecting to your higher self.\nSelf-understanding\, building inner confidence\, and self-respect.\nTools for mastering your energy and becoming a leader of yourself.\nDiscovering how to switch negative energy into positive energy with ease.\nThe experience of giving and receiving without hooks or limitations.\nCreating inner security that fosters outer security.\nBalancing your head and your heart to keep you on your pivot in life.\nLearn to trust your intuitive self and live with more joy and happiness!\n\nYou will receive a greater knowledge of your metaphysical nature\, life cycles\, meditation in clearing environments and 10+ techniques for daily use. Plus a personal 55-page workbook to take home for future home study use!! \nInvestment: $99 (includes workbook)\nReserve Your Spot \n**Contact Center for Tranquility for Special Pricing to Groupwork Members \nThe schedule for Sunday:\n8:30 – Registration and Welcome\n9am – Big Picture and Setting Your Energy\n10am – Your Pivot and Your Tools\n11am – Self-Understanding Through Experience\nNoon – Lunch Break\n1pm – Boundaries and Self-Respect the Keys to Loving Life\n2pm – Evaluate your Habits and Attitudes.\n3pm – Re-establish your loyalties\n4pm – Beginning Anew\n5pm – Final Wrap-up and Regrouping
URL:https://newspiritualhorizons.com/event/submersion-facet-i-re-ignite-your-inner-spark/
LOCATION:Inner Peace Wellness\, 5225 Geo. Wash. Mem. Hwy\, Yorktown\, VA\, 23692\, United States
CATEGORIES:Lectures & Workshops,New Spiritual Horizons,Spiritual Development Course
ATTACH;FMTTYPE=image/png:https://www.wayshowerscollege.net/nsh01/wp-content/uploads/sites/3/2020/01/NSH-Facet-1-book-picture-1.png
ORGANIZER;CN="Alma Phillips":MAILTO:almap916@aol.com
GEO:37.157625;-76.4630687
X-APPLE-STRUCTURED-LOCATION;VALUE=URI;X-ADDRESS=Inner Peace Wellness 5225 Geo. Wash. Mem. Hwy Yorktown VA 23692 United States;X-APPLE-RADIUS=500;X-TITLE=5225 Geo. Wash. Mem. Hwy:geo:-76.4630687,37.157625
END:VEVENT
BEGIN:VEVENT
DTSTART;TZID=America/New_York:20170907T190000
DTEND;TZID=America/New_York:20170907T220000
DTSTAMP:20260422T191137
CREATED:20171219T054306Z
LAST-MODIFIED:20180731T213714Z
UID:2944-1504810800-1504821600@newspiritualhorizons.com
SUMMARY:Exploring the Practical Solutions of Your Spiritual Awakening
DESCRIPTION:Experience a Workshop that will:\nOpen the door to knowing and understanding the Real You and inspire you in your journey this lifetime. \nTechniques to witness the sensitivity you work with and how to do it better. \nNew revelations on coming to planet earth\, your plan and how to live life with more fun. \nMarvel in your sensitivity gifts that give power and clarity to your communications. \nLearn what it feels like to evaluate your past\, put power to that wisdom and learn to be in the present 100% of your time. \nGain the security of interactions of like-minded persons attending and a glimpse of your bigger family. \nRelax and enjoy the uniqueness of your lifetime.
URL:https://newspiritualhorizons.com/event/exploring-the-practical-solutions-of-your-spiritual-awakening/
LOCATION:Inner Peace Wellness\, 5225 Geo. Wash. Mem. Hwy\, Yorktown\, VA\, 23692\, United States
CATEGORIES:Lectures & Seminars,Lectures & Workshops,New Spiritual Horizons
ATTACH;FMTTYPE=image/jpeg:https://www.wayshowerscollege.net/nsh01/wp-content/uploads/sites/3/2017/12/eid-1.jpg
ORGANIZER;CN="Amanda Jackson":MAILTO:selfablaze@gmail.com
GEO:37.157625;-76.4630687
X-APPLE-STRUCTURED-LOCATION;VALUE=URI;X-ADDRESS=Inner Peace Wellness 5225 Geo. Wash. Mem. Hwy Yorktown VA 23692 United States;X-APPLE-RADIUS=500;X-TITLE=5225 Geo. Wash. Mem. Hwy:geo:-76.4630687,37.157625
END:VEVENT
BEGIN:VEVENT
DTSTART;TZID=America/New_York:20170906T200000
DTEND;TZID=America/New_York:20170906T213000
DTSTAMP:20260422T191137
CREATED:20171219T054306Z
LAST-MODIFIED:20180731T213711Z
UID:2942-1504728000-1504733400@newspiritualhorizons.com
SUMMARY:Spiritual Awakening: Understanding the Changes in Our Lives-Virginia
DESCRIPTION:Spiritual Awakening: Understanding the Changes in Our Lives\n\nUnderstand how guilt hinders finding solutions in transforming your life.\nDiscover what change really means and how to accept its benefits.\nStop the difficulties within your life experiences by learning how to balance and use those experiences practically.\nUnfold your extra-sensory perception through learning to trust your innate sensitivity.\nRise above the fear and stop settling for less.\nEternity is now.
URL:https://newspiritualhorizons.com/event/spiritual-awakening-understanding-the-changes-in-our-lives-virginia/
LOCATION:Inner Peace Wellness\, 5225 Geo. Wash. Mem. Hwy\, Yorktown\, VA\, 23692\, United States
CATEGORIES:Lectures & Seminars,Lectures & Workshops,New Spiritual Horizons
GEO:37.157625;-76.4630687
X-APPLE-STRUCTURED-LOCATION;VALUE=URI;X-ADDRESS=Inner Peace Wellness 5225 Geo. Wash. Mem. Hwy Yorktown VA 23692 United States;X-APPLE-RADIUS=500;X-TITLE=5225 Geo. Wash. Mem. Hwy:geo:-76.4630687,37.157625
END:VEVENT
BEGIN:VEVENT
DTSTART;TZID=America/New_York:20170827T100000
DTEND;TZID=America/New_York:20170827T170000
DTSTAMP:20260422T191137
CREATED:20171219T053253Z
LAST-MODIFIED:20180731T213710Z
UID:2939-1503828000-1503853200@newspiritualhorizons.com
SUMMARY:Communicate with Inner Guidance-Virginia
DESCRIPTION:During the Connect with Inner Guidance Workshop you will: \n\nEstablish a direct\, two-way communication with your Inner Guidance\nReceive answers immediately to any question you would like to ask your spiritual team of master souls.\nRealize you are never alone.\nDiscover how your guides KNOW your life purpose & can steer you in the right direction toward joy\, abundance and fulfillment.\nRaise your energy vibration instantly to be “tuned in” with your team.\nLearn a quick and easy method of daily meditation with your guidance so you can receive their ideas\, inspirations and suggestions for your life success\nTake home your personal Orientation Profile outlining how many spirit guides you have\, how they communicate with you\, your energy sensitivity level and your primary gift of Intuition\, Vision\, Prophecy or Feeling.\n\nYou’ll also receive a 30 page Connect with Inner Guidance workbook. \nIf you have already experienced this workshop we welcome you to return for Swing Update showing how far you have progressed and if you have additional guidance or angels working with you at this time for a specific purpose. \n6 hours $125 in Advance/$150 at the door
URL:https://newspiritualhorizons.com/event/communicate-with-inner-guidance-virginia/
LOCATION:Inner Peace Wellness\, 5225 Geo. Wash. Mem. Hwy\, Yorktown\, VA\, 23692\, United States
CATEGORIES:Lectures & Seminars,Lectures & Workshops,New Spiritual Horizons
ATTACH;FMTTYPE=image/jpeg:https://www.wayshowerscollege.net/nsh01/wp-content/uploads/sites/3/2017/12/Spiritual-Guides.jpeg
ORGANIZER;CN="Alma Phillips":MAILTO:almap916@aol.com
GEO:37.157625;-76.4630687
X-APPLE-STRUCTURED-LOCATION;VALUE=URI;X-ADDRESS=Inner Peace Wellness 5225 Geo. Wash. Mem. Hwy Yorktown VA 23692 United States;X-APPLE-RADIUS=500;X-TITLE=5225 Geo. Wash. Mem. Hwy:geo:-76.4630687,37.157625
END:VEVENT
END:VCALENDAR