BEGIN:VCALENDAR
VERSION:2.0
PRODID:-//New Spiritual Horizons - ECPv6.15.16.1//NONSGML v1.0//EN
CALSCALE:GREGORIAN
METHOD:PUBLISH
X-WR-CALNAME:New Spiritual Horizons
X-ORIGINAL-URL:https://newspiritualhorizons.com
X-WR-CALDESC:Events for New Spiritual Horizons
REFRESH-INTERVAL;VALUE=DURATION:PT1H
X-Robots-Tag:noindex
X-PUBLISHED-TTL:PT1H
BEGIN:VTIMEZONE
TZID:America/Chicago
BEGIN:DAYLIGHT
TZOFFSETFROM:-0600
TZOFFSETTO:-0500
TZNAME:CDT
DTSTART:20170312T080000
END:DAYLIGHT
BEGIN:STANDARD
TZOFFSETFROM:-0500
TZOFFSETTO:-0600
TZNAME:CST
DTSTART:20171105T070000
END:STANDARD
BEGIN:DAYLIGHT
TZOFFSETFROM:-0600
TZOFFSETTO:-0500
TZNAME:CDT
DTSTART:20180311T080000
END:DAYLIGHT
BEGIN:STANDARD
TZOFFSETFROM:-0500
TZOFFSETTO:-0600
TZNAME:CST
DTSTART:20181104T070000
END:STANDARD
BEGIN:DAYLIGHT
TZOFFSETFROM:-0600
TZOFFSETTO:-0500
TZNAME:CDT
DTSTART:20190310T080000
END:DAYLIGHT
BEGIN:STANDARD
TZOFFSETFROM:-0500
TZOFFSETTO:-0600
TZNAME:CST
DTSTART:20191103T070000
END:STANDARD
END:VTIMEZONE
BEGIN:VEVENT
DTSTART;TZID=America/Chicago:20180208T190000
DTEND;TZID=America/Chicago:20180208T213000
DTSTAMP:20260420T202145
CREATED:20180201T205536Z
LAST-MODIFIED:20180731T213714Z
UID:3321-1518116400-1518125400@newspiritualhorizons.com
SUMMARY:Master Your Intuition & Clarify Your Life Purpose – Fredericksburg\, VA
DESCRIPTION:Expand Your Psychic Sensitivity and Your Understanding of Your Life’s Purpose.\nExperience the reality and power of your spiritual nature and your intuitive potential. This workshop is packed with techniques that enable you to re-awaken and experience your true nature.\nYou are a unique gathering of energy with tremendous power when you are master of yourself. This workshop will give you the experiences you need to move smoothly into a higher level of self-mastery. And it is fun as well as fulfilling. \n \nAttend the “Exploring New Spiritual Horizons” to:\n\nClearly understand why you are here on Planet Earth\, where you came from and the reason why you attracted the environment and people in your life.\nDiscover your personal relationship with the Universe and your life on Planet Earth.\nDevelop your psychic tune-in and experience techniques that show you how to sense and discern energy and how to make it practical.\nRaise your energy/aura to a 100% positive and relaxed vibration. Using this simple technique will attune you to your Angels instantly. (You’ll probably feel chills too!)\nExperience soul-to-soul communication. Experience the feeling of being one with all things and with all people.\nFeel powerful healing energy and develop your own healing abilities.\nUnderstand the power of being true to yourself and “Your three loyalties.”\n\nConnect and share with like-minded people on a similar spiritual path to yours. If you enjoy this workshop\, there will be on-going New Spiritual Horizons gatherings starting soon. \n \n\n\nFor more information phone 540 854 4841 or email Melissa
URL:https://newspiritualhorizons.com/event/master-your-intuition-clarify-your-life-purpose-fredericksburg-va-2/
LOCATION:Creative Arts Studio\, 7001 Harrison Rd\, Ste 125\, Fredericksburg\, VA\, 22407\, United States
CATEGORIES:Lectures & Seminars,Lectures & Workshops,New Spiritual Horizons
ATTACH;FMTTYPE=image/jpeg:https://www.wayshowerscollege.net/nsh01/wp-content/uploads/sites/3/2018/02/0002-discover-your-nsh.jpg
ORGANIZER;CN="Melissa Kitto":MAILTO:melissa@communicatewithangels.com
GEO:38.2879934;-77.5650764
X-APPLE-STRUCTURED-LOCATION;VALUE=URI;X-ADDRESS=Creative Arts Studio 7001 Harrison Rd Ste 125 Fredericksburg VA 22407 United States;X-APPLE-RADIUS=500;X-TITLE=7001 Harrison Rd\, Ste 125:geo:-77.5650764,38.2879934
END:VEVENT
END:VCALENDAR