BEGIN:VCALENDAR
VERSION:2.0
PRODID:-//New Spiritual Horizons - ECPv6.15.16.1//NONSGML v1.0//EN
CALSCALE:GREGORIAN
METHOD:PUBLISH
X-ORIGINAL-URL:https://newspiritualhorizons.com
X-WR-CALDESC:Events for New Spiritual Horizons
REFRESH-INTERVAL;VALUE=DURATION:PT1H
X-Robots-Tag:noindex
X-PUBLISHED-TTL:PT1H
BEGIN:VTIMEZONE
TZID:America/New_York
BEGIN:DAYLIGHT
TZOFFSETFROM:-0500
TZOFFSETTO:-0400
TZNAME:EDT
DTSTART:20160313T070000
END:DAYLIGHT
BEGIN:STANDARD
TZOFFSETFROM:-0400
TZOFFSETTO:-0500
TZNAME:EST
DTSTART:20161106T060000
END:STANDARD
BEGIN:DAYLIGHT
TZOFFSETFROM:-0500
TZOFFSETTO:-0400
TZNAME:EDT
DTSTART:20170312T070000
END:DAYLIGHT
BEGIN:STANDARD
TZOFFSETFROM:-0400
TZOFFSETTO:-0500
TZNAME:EST
DTSTART:20171105T060000
END:STANDARD
BEGIN:DAYLIGHT
TZOFFSETFROM:-0500
TZOFFSETTO:-0400
TZNAME:EDT
DTSTART:20180311T070000
END:DAYLIGHT
BEGIN:STANDARD
TZOFFSETFROM:-0400
TZOFFSETTO:-0500
TZNAME:EST
DTSTART:20181104T060000
END:STANDARD
END:VTIMEZONE
BEGIN:VEVENT
DTSTART;TZID=America/New_York:20171214T190000
DTEND;TZID=America/New_York:20171214T213000
DTSTAMP:20260423T201947
CREATED:20171219T054333Z
LAST-MODIFIED:20180731T213713Z
UID:2957-1513278000-1513287000@newspiritualhorizons.com
SUMMARY:Trust Your Intuition & Find Your Life Purpose – Richmond\, VA
DESCRIPTION:Expand Your Psychic Sensitivity and Your Understanding of Your Life’s Purpose.\n  \nExperience the reality and power of your spiritual nature and your intuitive potential.\nAttend the “Discovering New Spiritual Horizons Workshop” to:\n\nClearly understand why you are here on Planet Earth\, where you came from and the reason why you attracted the environment and people in your life.\nDiscern the thoughts and feelings you pick up so you know what is you and what is not you. We are all super sensitive! Buffer yourself from stress and confusion.\nRaise your energy/aura to a 100% positive and relaxed vibration. Using this simple technique will attune you to your Angels instantly. (You’ll probably feel chills too!)\nExperience soul-to-soul communication. Experience the feeling of being one with all things and with all people.\nFeel powerful healing energy and develop your own healing abilities.\n\nINVESTMENT: $35 \n\n\nFor more information phone 540 854 4841 or email Melissa Kitto \nReserve Your Seat
URL:https://newspiritualhorizons.com/event/trust-your-intuition-find-your-life-purpose-richmond-va/
LOCATION:Chrysalis Institute\, 3527 Ellwood Ave.\, Richmond\, VA\, 23221\, United States
CATEGORIES:Lectures & Seminars,Lectures & Workshops,New Spiritual Horizons
ATTACH;FMTTYPE=image/jpeg:https://www.wayshowerscollege.net/nsh01/wp-content/uploads/sites/3/2017/12/0002-discover-your-nsh.jpg
ORGANIZER;CN="Richard Lassiter":MAILTO:richard@balancedlivinginstitute.com
GEO:37.55678;-77.4878831
X-APPLE-STRUCTURED-LOCATION;VALUE=URI;X-ADDRESS=Chrysalis Institute 3527 Ellwood Ave. Richmond VA 23221 United States;X-APPLE-RADIUS=500;X-TITLE=3527 Ellwood Ave.:geo:-77.4878831,37.55678
END:VEVENT
END:VCALENDAR