BEGIN:VCALENDAR
VERSION:2.0
PRODID:-//New Spiritual Horizons - ECPv6.15.16.1//NONSGML v1.0//EN
CALSCALE:GREGORIAN
METHOD:PUBLISH
X-WR-CALNAME:New Spiritual Horizons
X-ORIGINAL-URL:https://newspiritualhorizons.com
X-WR-CALDESC:Events for New Spiritual Horizons
REFRESH-INTERVAL;VALUE=DURATION:PT1H
X-Robots-Tag:noindex
X-PUBLISHED-TTL:PT1H
BEGIN:VTIMEZONE
TZID:UTC
BEGIN:STANDARD
TZOFFSETFROM:+0000
TZOFFSETTO:+0000
TZNAME:UTC
DTSTART:20190101T000000
END:STANDARD
END:VTIMEZONE
BEGIN:VTIMEZONE
TZID:America/New_York
BEGIN:DAYLIGHT
TZOFFSETFROM:-0500
TZOFFSETTO:-0400
TZNAME:EDT
DTSTART:20190310T070000
END:DAYLIGHT
BEGIN:STANDARD
TZOFFSETFROM:-0400
TZOFFSETTO:-0500
TZNAME:EST
DTSTART:20191103T060000
END:STANDARD
BEGIN:DAYLIGHT
TZOFFSETFROM:-0500
TZOFFSETTO:-0400
TZNAME:EDT
DTSTART:20200308T070000
END:DAYLIGHT
BEGIN:STANDARD
TZOFFSETFROM:-0400
TZOFFSETTO:-0500
TZNAME:EST
DTSTART:20201101T060000
END:STANDARD
BEGIN:DAYLIGHT
TZOFFSETFROM:-0500
TZOFFSETTO:-0400
TZNAME:EDT
DTSTART:20210314T070000
END:DAYLIGHT
BEGIN:STANDARD
TZOFFSETFROM:-0400
TZOFFSETTO:-0500
TZNAME:EST
DTSTART:20211107T060000
END:STANDARD
END:VTIMEZONE
BEGIN:VEVENT
DTSTART;TZID=UTC:20200307T090000
DTEND;TZID=UTC:20200307T120000
DTSTAMP:20260423T191130
CREATED:20200216T200100Z
LAST-MODIFIED:20200307T223206Z
UID:215046-1583571600-1583582400@newspiritualhorizons.com
SUMMARY:The Real Me: A Spiritual Being
DESCRIPTION:Who am I? \nWhere do I come from? \nWhere am I going? \nWhat am I doing here? \nWhat are clear motives? \nHow can I utilise my sensitivity better? \nWhat is the difference between wisdom and knowledge? \nRegroup some of these questions by getting a broad picture of what being a spiritual being is all about. Touch base with your loyalty to yourself and the responsibility you have for what you came to do. Gain an understanding of your feeling nature in order to value the unique person you are.
URL:https://newspiritualhorizons.com/event/the-real-me-a-spiritual-being/
LOCATION:Brydone  Hotel – Moeraki Room\,  115 Thames St.\, Oamaru\, NZ\, 115 Thames Street\, Oamaru\, New Zealand
CATEGORIES:New Spiritual Horizons,New Zealand
ORGANIZER;CN="Jan Burke":MAILTO:janburke@hotmail.co.nz
GEO:-45.0989029;170.9707091
X-APPLE-STRUCTURED-LOCATION;VALUE=URI;X-ADDRESS=Brydone  Hotel – Moeraki Room  115 Thames St. Oamaru NZ 115 Thames Street Oamaru New Zealand;X-APPLE-RADIUS=500;X-TITLE=115 Thames Street:geo:170.9707091,-45.0989029
END:VEVENT
BEGIN:VEVENT
DTSTART;TZID=UTC:20200305T190000
DTEND;TZID=UTC:20200305T220000
DTSTAMP:20260423T191130
CREATED:20200216T200059Z
LAST-MODIFIED:20200305T222845Z
UID:215045-1583434800-1583445600@newspiritualhorizons.com
SUMMARY:New Spiritual Horizons Workshop
DESCRIPTION:
URL:https://newspiritualhorizons.com/event/new-spiritual-horizons-workshop/
LOCATION:Brydone  Hotel – Moeraki Room\,  115 Thames St.\, Oamaru\, NZ\, 115 Thames Street\, Oamaru\, New Zealand
CATEGORIES:New Spiritual Horizons,New Zealand
ORGANIZER;CN="Jan Burke":MAILTO:janburke@hotmail.co.nz
GEO:-45.0989029;170.9707091
X-APPLE-STRUCTURED-LOCATION;VALUE=URI;X-ADDRESS=Brydone  Hotel – Moeraki Room  115 Thames St. Oamaru NZ 115 Thames Street Oamaru New Zealand;X-APPLE-RADIUS=500;X-TITLE=115 Thames Street:geo:170.9707091,-45.0989029
END:VEVENT
BEGIN:VEVENT
DTSTART;TZID=America/New_York:20200303T193000
DTEND;TZID=America/New_York:20200303T210000
DTSTAMP:20260423T191130
CREATED:20200216T200059Z
LAST-MODIFIED:20200303T214924Z
UID:215044-1583263800-1583269200@newspiritualhorizons.com
SUMMARY:The Real You
DESCRIPTION:The New Spiritual Horizons program is an opportunity to quench your spiritual thirst in a dynamic\, consistent manner that is enjoyable\, lasting and safe. You will learn powerful techniques that enable  you to experience your own energy. This is the first step on your path to master yourself\, your energy and your situations. Find out how you can attract all the happiness\, successs and abundance that you seek. \nRe-awaken to the foundational truths which you will find in all aspects of life.
URL:https://newspiritualhorizons.com/event/the-real-you/
LOCATION:Brydone  Hotel – Moeraki Room\,  115 Thames St.\, Oamaru\, NZ\, 115 Thames Street\, Oamaru\, New Zealand
CATEGORIES:New Spiritual Horizons,New Zealand
ORGANIZER;CN="Jan Burke":MAILTO:janburke@hotmail.co.nz
GEO:-45.0989029;170.9707091
X-APPLE-STRUCTURED-LOCATION;VALUE=URI;X-ADDRESS=Brydone  Hotel – Moeraki Room  115 Thames St. Oamaru NZ 115 Thames Street Oamaru New Zealand;X-APPLE-RADIUS=500;X-TITLE=115 Thames Street:geo:170.9707091,-45.0989029
END:VEVENT
END:VCALENDAR