BEGIN:VCALENDAR
VERSION:2.0
PRODID:-//New Spiritual Horizons - ECPv6.15.16.1//NONSGML v1.0//EN
CALSCALE:GREGORIAN
METHOD:PUBLISH
X-WR-CALNAME:New Spiritual Horizons
X-ORIGINAL-URL:https://newspiritualhorizons.com
X-WR-CALDESC:Events for New Spiritual Horizons
REFRESH-INTERVAL;VALUE=DURATION:PT1H
X-Robots-Tag:noindex
X-PUBLISHED-TTL:PT1H
BEGIN:VTIMEZONE
TZID:America/Denver
BEGIN:DAYLIGHT
TZOFFSETFROM:-0700
TZOFFSETTO:-0600
TZNAME:MDT
DTSTART:20180311T090000
END:DAYLIGHT
BEGIN:STANDARD
TZOFFSETFROM:-0600
TZOFFSETTO:-0700
TZNAME:MST
DTSTART:20181104T080000
END:STANDARD
BEGIN:DAYLIGHT
TZOFFSETFROM:-0700
TZOFFSETTO:-0600
TZNAME:MDT
DTSTART:20190310T090000
END:DAYLIGHT
BEGIN:STANDARD
TZOFFSETFROM:-0600
TZOFFSETTO:-0700
TZNAME:MST
DTSTART:20191103T080000
END:STANDARD
BEGIN:DAYLIGHT
TZOFFSETFROM:-0700
TZOFFSETTO:-0600
TZNAME:MDT
DTSTART:20200308T090000
END:DAYLIGHT
BEGIN:STANDARD
TZOFFSETFROM:-0600
TZOFFSETTO:-0700
TZNAME:MST
DTSTART:20201101T080000
END:STANDARD
END:VTIMEZONE
BEGIN:VTIMEZONE
TZID:America/Chicago
BEGIN:DAYLIGHT
TZOFFSETFROM:-0600
TZOFFSETTO:-0500
TZNAME:CDT
DTSTART:20180311T080000
END:DAYLIGHT
BEGIN:STANDARD
TZOFFSETFROM:-0500
TZOFFSETTO:-0600
TZNAME:CST
DTSTART:20181104T070000
END:STANDARD
BEGIN:DAYLIGHT
TZOFFSETFROM:-0600
TZOFFSETTO:-0500
TZNAME:CDT
DTSTART:20190310T080000
END:DAYLIGHT
BEGIN:STANDARD
TZOFFSETFROM:-0500
TZOFFSETTO:-0600
TZNAME:CST
DTSTART:20191103T070000
END:STANDARD
BEGIN:DAYLIGHT
TZOFFSETFROM:-0600
TZOFFSETTO:-0500
TZNAME:CDT
DTSTART:20200308T080000
END:DAYLIGHT
BEGIN:STANDARD
TZOFFSETFROM:-0500
TZOFFSETTO:-0600
TZNAME:CST
DTSTART:20201101T070000
END:STANDARD
END:VTIMEZONE
BEGIN:VEVENT
DTSTART;TZID=America/Denver:20190330T150000
DTEND;TZID=America/Denver:20190330T180000
DTSTAMP:20260423T085346
CREATED:20190326T143719Z
LAST-MODIFIED:20190326T145352Z
UID:213553-1553958000-1553968800@newspiritualhorizons.com
SUMMARY:Develop Your Intuition & Clarify Your Life Purpose - Albuquerque\, NM
DESCRIPTION:Develop Your Intuition & Clarify Your Life Purpose\n			\n			\n				\n				\n				\n				\n			\n				\n				\n			\n				\n				\n				\n				\n				\n				\n				\n				\n				\n				\n				\n				\n				\n				\n				\n				\n				\n				\n\n\n\n\nYou are Energy!\nIt’s time to discover and experience the Real You; an energetic being with immense potential.\nIn this workshop you’ll re-connect with your inner soul and discover what you have come to do in this lifetime. \nYou’ll experience the power of your energy and learn to direct it to heal yourself and others\, gain self-awareness and reach your goals in life. \nYou’ll awaken the intuitive hunches you’ve been experiencing your entire life. You’ll develop trust in your intuitive sensitivity. \nYou have a unique life purpose. It’s time to clarify who you are\, where you have come from and what your purpose in life is. \n\n“Happiness\, success and abundance are already yours. All you need to do is to become master of yourself” Dr. Francisco Coll \n\nThis class is for everyone! \nIn this workshop you will:\n\nClearly understand why you are here on Planet Earth\, where you came from and the reason why you attracted the environment and people in your life.\nDiscover your personal relationship with the Universe and your life on Planet Earth.\nDevelop your psychic tune-in and experience techniques that show you how to sense and discern energy and how to make it practical.\nRaise your energy/aura to a 100% positive and relaxed vibration. Using this simple technique will attune you to your Angels instantly. (You’ll probably feel chills too!)\nExperience soul-to-soul communication. Experience the feeling of being one with all things and with all people.\nFeel powerful healing energy and develop your own healing abilities.\nUnderstand the power of being true to yourself and “Your three loyalties.”\n\nConnect and share with like-minded people on a similar spiritual path to yours. If you enjoy this workshop\, there will be on-going New Spiritual Horizons gatherings starting soon. This event is part of the New Spiritual Horizons movement of Wayshowers College; a spiritual development program that empowers you to discover the real you and trust your inner guidance. \n\n\nFor more information email Dorinda \n\n\n\n\n\n 
URL:https://newspiritualhorizons.com/event/213553/
LOCATION:Albuquerque Marriott Pyramid\, 5151 San Francisco Rd. NE\, Albuquerque\, NM\, United States
CATEGORIES:Lectures & Workshops,New Spiritual Horizons,Spiritual Development Course
ORGANIZER;CN="Dorinda Fox":MAILTO:fox4joy@aol.com
GEO:35.1683281;-106.5873658
X-APPLE-STRUCTURED-LOCATION;VALUE=URI;X-ADDRESS=Albuquerque Marriott Pyramid 5151 San Francisco Rd. NE Albuquerque NM United States;X-APPLE-RADIUS=500;X-TITLE=5151 San Francisco Rd. NE:geo:-106.5873658,35.1683281
END:VEVENT
BEGIN:VEVENT
DTSTART;TZID=America/Chicago:20190330T130000
DTEND;TZID=America/Chicago:20190330T143000
DTSTAMP:20260423T085347
CREATED:20200226T161813Z
LAST-MODIFIED:20200226T161813Z
UID:215095-1553950800-1553956200@newspiritualhorizons.com
SUMMARY:Using your Intuition to Live Your Unique Life Purpose - Albuquerque\, NM  Copy
DESCRIPTION:Using your Intuition to Live Your Unique Life Purpose\n			\n			\n				\n				\n				\n				\n			\n				\n				\n			\n				\n				\n				\n				\n				\n				\n				\n				\n				\n				\n				\n				\n				\n				\n				\n				\n				\n				\nYou can re-awaken the full range of intuitive abilities you were born with.\nBecome the clearest spiritual advisor you know. It is all within you and the techniques and simple truths these classes offer will show you how to do it for yourself without dogma\, airy-fairy or relying on anything outside yourself. \nJoin us to experience measurable spiritual growth. \nDuring the class you will:\n\nExperience the power of your spiritual energy/aura\nBegin to understand your life purpose and how you can unfold it.\nLearn a technique that will help you immediately relax and be receptive to your Angels’ messages.\nLearn about your team of guides and how you can be aware of their messages. Discover how to recognize ANYTIME your angels want to communicate with you.\nDiscover how sensitive you are to your environment and why it is essential you keep your energy vibration at a high positive level.\nLearn the four ways you can use your psychic abilities and the keys to developing all of them.\nPractice using your psychic sensitivity and realize how psychic you already are!\n\n\n\nFor more information Email Dorinda
URL:https://newspiritualhorizons.com/event/213560-copy/
LOCATION:Albuquerque Marriott Pyramid\, 5151 San Francisco Rd. NE\, Albuquerque\, NM\, United States
CATEGORIES:Lectures & Workshops,New Spiritual Horizons,Spiritual Development Course
ORGANIZER;CN="Dorinda Fox":MAILTO:fox4joy@aol.com
GEO:35.1683281;-106.5873658
X-APPLE-STRUCTURED-LOCATION;VALUE=URI;X-ADDRESS=Albuquerque Marriott Pyramid 5151 San Francisco Rd. NE Albuquerque NM United States;X-APPLE-RADIUS=500;X-TITLE=5151 San Francisco Rd. NE:geo:-106.5873658,35.1683281
END:VEVENT
BEGIN:VEVENT
DTSTART;TZID=America/Chicago:20190330T130000
DTEND;TZID=America/Chicago:20190330T143000
DTSTAMP:20260423T085347
CREATED:20190326T144740Z
LAST-MODIFIED:20190326T145952Z
UID:213560-1553950800-1553956200@newspiritualhorizons.com
SUMMARY:Using your Intuition to Live Your Unique Life Purpose - Albuquerque\, NM
DESCRIPTION:Using your Intuition to Live Your Unique Life Purpose\n			\n			\n				\n				\n				\n				\n			\n				\n				\n			\n				\n				\n				\n				\n				\n				\n				\n				\n				\n				\n				\n				\n				\n				\n				\n				\n				\n				\nYou can re-awaken the full range of intuitive abilities you were born with.\nBecome the clearest spiritual advisor you know. It is all within you and the techniques and simple truths these classes offer will show you how to do it for yourself without dogma\, airy-fairy or relying on anything outside yourself. \nJoin us to experience measurable spiritual growth. \nDuring the class you will:\n\nExperience the power of your spiritual energy/aura\nBegin to understand your life purpose and how you can unfold it.\nLearn a technique that will help you immediately relax and be receptive to your Angels’ messages.\nLearn about your team of guides and how you can be aware of their messages. Discover how to recognize ANYTIME your angels want to communicate with you.\nDiscover how sensitive you are to your environment and why it is essential you keep your energy vibration at a high positive level.\nLearn the four ways you can use your psychic abilities and the keys to developing all of them.\nPractice using your psychic sensitivity and realize how psychic you already are!\n\n\n\nFor more information Email Dorinda
URL:https://newspiritualhorizons.com/event/213560/
LOCATION:Albuquerque Marriott Pyramid\, 5151 San Francisco Rd. NE\, Albuquerque\, NM\, United States
CATEGORIES:Lectures & Workshops,New Spiritual Horizons,Spiritual Development Course
ORGANIZER;CN="Dorinda Fox":MAILTO:fox4joy@aol.com
GEO:35.1683281;-106.5873658
X-APPLE-STRUCTURED-LOCATION;VALUE=URI;X-ADDRESS=Albuquerque Marriott Pyramid 5151 San Francisco Rd. NE Albuquerque NM United States;X-APPLE-RADIUS=500;X-TITLE=5151 San Francisco Rd. NE:geo:-106.5873658,35.1683281
END:VEVENT
END:VCALENDAR