BEGIN:VCALENDAR
VERSION:2.0
PRODID:-//New Spiritual Horizons - ECPv6.15.16.1//NONSGML v1.0//EN
CALSCALE:GREGORIAN
METHOD:PUBLISH
X-WR-CALNAME:New Spiritual Horizons
X-ORIGINAL-URL:https://newspiritualhorizons.com
X-WR-CALDESC:Events for New Spiritual Horizons
REFRESH-INTERVAL;VALUE=DURATION:PT1H
X-Robots-Tag:noindex
X-PUBLISHED-TTL:PT1H
BEGIN:VTIMEZONE
TZID:America/Chicago
BEGIN:DAYLIGHT
TZOFFSETFROM:-0600
TZOFFSETTO:-0500
TZNAME:CDT
DTSTART:20220313T080000
END:DAYLIGHT
BEGIN:STANDARD
TZOFFSETFROM:-0500
TZOFFSETTO:-0600
TZNAME:CST
DTSTART:20221106T070000
END:STANDARD
BEGIN:DAYLIGHT
TZOFFSETFROM:-0600
TZOFFSETTO:-0500
TZNAME:CDT
DTSTART:20230312T080000
END:DAYLIGHT
BEGIN:STANDARD
TZOFFSETFROM:-0500
TZOFFSETTO:-0600
TZNAME:CST
DTSTART:20231105T070000
END:STANDARD
BEGIN:DAYLIGHT
TZOFFSETFROM:-0600
TZOFFSETTO:-0500
TZNAME:CDT
DTSTART:20240310T080000
END:DAYLIGHT
BEGIN:STANDARD
TZOFFSETFROM:-0500
TZOFFSETTO:-0600
TZNAME:CST
DTSTART:20241103T070000
END:STANDARD
BEGIN:DAYLIGHT
TZOFFSETFROM:-0600
TZOFFSETTO:-0500
TZNAME:CDT
DTSTART:20250309T080000
END:DAYLIGHT
BEGIN:STANDARD
TZOFFSETFROM:-0500
TZOFFSETTO:-0600
TZNAME:CST
DTSTART:20251102T070000
END:STANDARD
BEGIN:DAYLIGHT
TZOFFSETFROM:-0600
TZOFFSETTO:-0500
TZNAME:CDT
DTSTART:20260308T080000
END:DAYLIGHT
BEGIN:STANDARD
TZOFFSETFROM:-0500
TZOFFSETTO:-0600
TZNAME:CST
DTSTART:20261101T070000
END:STANDARD
END:VTIMEZONE
BEGIN:VEVENT
DTSTART;TZID=America/Chicago:20250821T140000
DTEND;TZID=America/Chicago:20250821T230000
DTSTAMP:20260425T151634
CREATED:20250831T134222Z
LAST-MODIFIED:20250831T134222Z
UID:246228-1755784800-1755817200@newspiritualhorizons.com
SUMMARY:5001IL: Spiritual Freedom Orientation Lecture: Intuition\, Spirit Guides\, and Life Purpose
DESCRIPTION:5001IL: Spiritual Freedom Orientation Lecture:\n\nDuring this Interactive Class You will experience: \n \n1. The power of your spiritual energy/aura \n2. Begin to understand your life purpose and how you can unfold it \n3. Learn about your team of guides and how you can be aware of their messages and how to \n4. Recognize ANYTIME your Spiritual Helpers want to communicate with you \n5. Discover how sensitive you are to your environment and why it is essential to raise your vibration to its highest positive point \n6. Explore the 7-year cycles and purpose of each cycle \n7. Learn the 4 ways you can use your intuitive (psychic) abilities and learn to develop all 4. \nInvestment: $15.00 for more information and to register: www.newspiritualhorizons.com/sfs-step-1/ \n\nThis event is offer 3 times on the date mentioned.  When you register\, choose the timing that works for you. \n\n\n\n\n\nThis class is Virtual.
URL:https://newspiritualhorizons.com/event/5001il-spiritual-freedom-orientation-lecture-intuition-spirit-guides-and-life-purpose/
CATEGORIES:Field
ORGANIZER;CN="IPM International":MAILTO:Support@ipminternational.org
END:VEVENT
BEGIN:VEVENT
DTSTART;TZID=America/Chicago:20250720T140000
DTEND;TZID=America/Chicago:20250720T173000
DTSTAMP:20260425T151634
CREATED:20250821T232002Z
LAST-MODIFIED:20250821T232002Z
UID:246207-1753020000-1753032600@newspiritualhorizons.com
SUMMARY:500IL EID: Man and the Universe Orientation Lecture and Exploring Inner Dynamics Workshop
DESCRIPTION:500IL EID: Man and the Universe Orientation Lecture and Exploring Inner Dynamics Workshop:\n \nThe Orientation Lecture presents the individual with an expanded view of themselves and the world around them.  This program helps a person better understand their experiences in life and discover new dimensions of their own inner potential.  This Lecture will explain your relationship to yourself and the universe; the difference between the conscious and unconscous mind; the four spiritual gifts and the past\, present and future.    dimensions of existence.  In the second portion of this Program\, you will experience your innate sensitivity by working our special Techniques.  You will learn how you chose your life suitation and your parents.\n \n\nThis class is Virtual.
URL:https://newspiritualhorizons.com/event/500il-eid-man-and-the-universe-orientation-lecture-and-exploring-inner-dynamics-workshop-13/
CATEGORIES:Field
ORGANIZER;CN="IPM International":MAILTO:Support@ipminternational.org
END:VEVENT
BEGIN:VEVENT
DTSTART;TZID=America/Chicago:20250717T140000
DTEND;TZID=America/Chicago:20250717T233000
DTSTAMP:20260425T151634
CREATED:20250821T232101Z
LAST-MODIFIED:20250821T232101Z
UID:246206-1752760800-1752795000@newspiritualhorizons.com
SUMMARY:5001IL: Spiritual Freedom Orientation Lecture
DESCRIPTION:5001IL: Spiritual Freedom Orientation Lecture:\n\nDuring this Interactive Class You will experience: \n \n1. The power of your spiritual energy/aura \n \n2. Begin to understand your life purpose and how you can unfold it \n \n3. Learn about your team of guides and how you can be aware of their messages and how to \n \n4. Recognize ANYTIME your Spiritual Helpers want to communicate with you \n \n5. Discover how sensitive you are to your environment and why it is essential to raise your vibration to its highest positive point \n \n6. Explore the 7-year cycles and purpose of each cycle \n \n7. Learn the 4 ways you can use your intuitive (psychic) abilities and learn to develop all 4. \n \nInvestment: $15.00 \, this presentation will occurs 3 times with different presenter teams on July 17. 2 PM\, 7 PM and 10 PM EDT \n\n\n\n\nThis class is Virtual.
URL:https://newspiritualhorizons.com/event/5001il-spiritual-freedom-orientation-lecture-18/
CATEGORIES:Field
ORGANIZER;CN="IPM International":MAILTO:Support@ipminternational.org
END:VEVENT
BEGIN:VEVENT
DTSTART;TZID=America/Chicago:20250525T140000
DTEND;TZID=America/Chicago:20250525T173000
DTSTAMP:20260425T151634
CREATED:20250529T143114Z
LAST-MODIFIED:20250529T143114Z
UID:246185-1748181600-1748194200@newspiritualhorizons.com
SUMMARY:500IL EID: Man and the Universe Orientation Lecture and Exploring Inner Dynamics Workshop
DESCRIPTION:500IL EID: Man and the Universe Orientation Lecture and Exploring Inner Dynamics Workshop:\n### In this live 3 1/2-hour workshop you will learn and experience: \n\nTechniques to buffer you from negativity and create deep instantaneous relaxation at any time.\nWhy you are here on Planet Earth\, where you came from and how you attracted the environment and people in your life.\nRaise your energy/aura to a 100% positive and relaxed vibration. Using this simple technique will instantly attune you to your Angels and the solutions they offer.\nTechniques where you will experience your spiritual sensitivity\, your healing touch and psychometry\, using your Clairaudient first impressions. Another technique is the Spiritual Cleansing of the aura. This will increase your protection from negativity.\nEffectively use your Psychic Sensitivity to discern what is REALLY going on in your environment and how to re-direct negativity.\nHow to make your Life Purpose the inner reference point for making difficult decisions.\nThe power of being the authentic you; The Real You.\n\n#### By the end of this workshop\, you will create a profound sense of inner peace as THE REAL YOU blossoms. \n#### Enjoy sharing and interacting with like-minded people who respect your opinions and want to learn from your experiences \nTo register and for more information: www.newspiritualhorizons.com/sfs-step-2\, Investment is $45.00. \n\nThis class is Virtual.
URL:https://newspiritualhorizons.com/event/500il-eid-man-and-the-universe-orientation-lecture-and-exploring-inner-dynamics-workshop-11/
CATEGORIES:Field
ORGANIZER;CN="IPM International":MAILTO:Support@ipminternational.org
END:VEVENT
BEGIN:VEVENT
DTSTART;TZID=America/Chicago:20250520T140000
DTEND;TZID=America/Chicago:20250520T223000
DTSTAMP:20260425T151634
CREATED:20250529T143220Z
LAST-MODIFIED:20250529T143220Z
UID:246184-1747749600-1747780200@newspiritualhorizons.com
SUMMARY:5001IL: Spiritual Freedom Orientation Lecture
DESCRIPTION:5001IL: Spiritual Freedom Orientation Lecture:\n\nDuring this Interactive Class You will experience: \n1. The power of your spiritual energy/aura \n2. Begin to understand your life purpose and how you can unfold it \n3. Learn about your team of guides and how you can be aware of their messages and how to \n4. Recognize ANYTIME your Spiritual Helpers want to communicate with you \n5. Discover how sensitive you are to your environment and why it is essential to raise your vibration to its highest positive point \n6. Explore the 7-year cycles and purpose of each cycle \n7. Learn the 4 ways you can use your intuitive (psychic) abilities and learn to develop all 4. \nInvestment: $15.00 \, offered 3 times on the date indicated  \n\n\n\n\nThis class is Virtual.
URL:https://newspiritualhorizons.com/event/5001il-spiritual-freedom-orientation-lecture-16/
CATEGORIES:Field
ORGANIZER;CN="IPM International":MAILTO:Support@ipminternational.org
END:VEVENT
BEGIN:VEVENT
DTSTART;TZID=America/Chicago:20230416T173000
DTEND;TZID=America/Chicago:20230416T203000
DTSTAMP:20260425T151634
CREATED:20230420T153203Z
LAST-MODIFIED:20230420T153203Z
UID:221548-1681666200-1681677000@newspiritualhorizons.com
SUMMARY:597: Responsibility: A Joyful Experience
DESCRIPTION:597: Responsibility: A Joyful Experience:\n1.      In this course you will regroup what the vibration of “loyalty to self” means to you for the stabilization of your self-respect and spiritual unfoldment. \n\n2.      You will experience a technique that will help you pinpoint some of the concepts that are putting pressure on you at this time and hindering your free-flowing energy.\n\n3.      You will learn to release what does not fit you anymore and gain experience in healing and building your energy.\n\n4.      You will gain an understanding in why you may have at times a feeling that something is missing or feel there is a “vacuum” inside you.\n\n5.      You will see how the understanding of the concept that no one is lost or need to be saved can help you be more relaxed and directed.\nThis course is part of LOVE IN ACTION RETREAT and is included in package price but is available for individual registration for the participant who desires to attend this as a stand alone course. Discounts available for early bird registration at landing page: www.innerpeacewithin.com.  All times are EDT but the retreat is being held in PDT location in person and online.  \n\n\n\nThis class is In Person and Virtual.
URL:https://newspiritualhorizons.com/event/597-responsibility-a-joyful-experience/
LOCATION:Las Vegas Retreat Center\, Las Vegas\, Nevada
CATEGORIES:Field
ORGANIZER;CN="IPM International":MAILTO:Support@ipminternational.org
GEO:36.171563;-115.1391009
END:VEVENT
END:VCALENDAR