BEGIN:VCALENDAR
VERSION:2.0
PRODID:-//New Spiritual Horizons - ECPv6.15.16.1//NONSGML v1.0//EN
CALSCALE:GREGORIAN
METHOD:PUBLISH
X-WR-CALNAME:New Spiritual Horizons
X-ORIGINAL-URL:https://newspiritualhorizons.com
X-WR-CALDESC:Events for New Spiritual Horizons
REFRESH-INTERVAL;VALUE=DURATION:PT1H
X-Robots-Tag:noindex
X-PUBLISHED-TTL:PT1H
BEGIN:VTIMEZONE
TZID:America/Chicago
BEGIN:DAYLIGHT
TZOFFSETFROM:-0600
TZOFFSETTO:-0500
TZNAME:CDT
DTSTART:20220313T080000
END:DAYLIGHT
BEGIN:STANDARD
TZOFFSETFROM:-0500
TZOFFSETTO:-0600
TZNAME:CST
DTSTART:20221106T070000
END:STANDARD
BEGIN:DAYLIGHT
TZOFFSETFROM:-0600
TZOFFSETTO:-0500
TZNAME:CDT
DTSTART:20230312T080000
END:DAYLIGHT
BEGIN:STANDARD
TZOFFSETFROM:-0500
TZOFFSETTO:-0600
TZNAME:CST
DTSTART:20231105T070000
END:STANDARD
BEGIN:DAYLIGHT
TZOFFSETFROM:-0600
TZOFFSETTO:-0500
TZNAME:CDT
DTSTART:20240310T080000
END:DAYLIGHT
BEGIN:STANDARD
TZOFFSETFROM:-0500
TZOFFSETTO:-0600
TZNAME:CST
DTSTART:20241103T070000
END:STANDARD
BEGIN:DAYLIGHT
TZOFFSETFROM:-0600
TZOFFSETTO:-0500
TZNAME:CDT
DTSTART:20250309T080000
END:DAYLIGHT
BEGIN:STANDARD
TZOFFSETFROM:-0500
TZOFFSETTO:-0600
TZNAME:CST
DTSTART:20251102T070000
END:STANDARD
BEGIN:DAYLIGHT
TZOFFSETFROM:-0600
TZOFFSETTO:-0500
TZNAME:CDT
DTSTART:20260308T080000
END:DAYLIGHT
BEGIN:STANDARD
TZOFFSETFROM:-0500
TZOFFSETTO:-0600
TZNAME:CST
DTSTART:20261101T070000
END:STANDARD
END:VTIMEZONE
BEGIN:VEVENT
DTSTART;TZID=America/Chicago:20250614T160000
DTEND;TZID=America/Chicago:20250614T190000
DTSTAMP:20260424T075628
CREATED:20250603T014847Z
LAST-MODIFIED:20250603T014847Z
UID:246191-1749916800-1749927600@newspiritualhorizons.com
SUMMARY:690: Guardian Angels: My Source of Inspiration
DESCRIPTION:690: Guardian Angels: My Source of Inspiration:\n \n1.      In this course you will gain a basic understanding of your own team of guardian angels\, who they are and how you work with them.\n\n2.      You will learn how you have been communicating with your helpers all your life and learn techniques that will enhance that communication.\n\n3.      You will become aware of your helpers as your personal board of directors who you can call on at any time.\n\n4.      You will gain insight about what you have come to do on Planet Earth and how your Guidance can help you accomplish your life purpose.\n \n\nThis class is Virtual.
URL:https://newspiritualhorizons.com/event/690-guardian-angels-my-source-of-inspiration/
CATEGORIES:Field
ORGANIZER;CN="IPM International":MAILTO:ipmiworld.org@yahoo.com
END:VEVENT
BEGIN:VEVENT
DTSTART;TZID=America/Chicago:20230121T150000
DTEND;TZID=America/Chicago:20230121T180000
DTSTAMP:20260424T075628
CREATED:20230107T015901Z
LAST-MODIFIED:20230107T015901Z
UID:221374-1674313200-1674324000@newspiritualhorizons.com
SUMMARY:7090: Reincarnation: The Evolution of the Soul
DESCRIPTION:7090: Reincarnation: The Evolution of the Soul:\n \n1.      In this course you learn about reincarnation and what it means to you as a soul growing on Planet Earth. \n\n2.      You will gain an understanding of the meaning of spiritual growth and see how personal refinement a constant ongoing and natural process is. \n\n3.      You will discover how regrouping yourself can help you get a bigger picture and a greater understanding of the experiences you have in life. \n\n4.      You will get an in-depth picture of one of your past lifetimes and see how it relates to your life now.\n \n\nThis class is In Person and Virtual.
URL:https://newspiritualhorizons.com/event/7090-reincarnation-the-evolution-of-the-soul/
LOCATION:Reincarnation\, 332 South Main Street\, Emporia\, Virginia
CATEGORIES:Field
ORGANIZER;CN="Ginger Stair":MAILTO:ginger@free2bfree.com
GEO:36.6862191;-77.5428525
X-APPLE-STRUCTURED-LOCATION;VALUE=URI;X-ADDRESS=Reincarnation 332 South Main Street Emporia Virginia;X-APPLE-RADIUS=500;X-TITLE=332 South Main Street:geo:-77.5428525,36.6862191
END:VEVENT
END:VCALENDAR