BEGIN:VCALENDAR
VERSION:2.0
PRODID:-//New Spiritual Horizons - ECPv6.15.16.1//NONSGML v1.0//EN
CALSCALE:GREGORIAN
METHOD:PUBLISH
X-ORIGINAL-URL:https://newspiritualhorizons.com
X-WR-CALDESC:Events for New Spiritual Horizons
REFRESH-INTERVAL;VALUE=DURATION:PT1H
X-Robots-Tag:noindex
X-PUBLISHED-TTL:PT1H
BEGIN:VTIMEZONE
TZID:America/Chicago
BEGIN:DAYLIGHT
TZOFFSETFROM:-0600
TZOFFSETTO:-0500
TZNAME:CDT
DTSTART:20210314T080000
END:DAYLIGHT
BEGIN:STANDARD
TZOFFSETFROM:-0500
TZOFFSETTO:-0600
TZNAME:CST
DTSTART:20211107T070000
END:STANDARD
BEGIN:DAYLIGHT
TZOFFSETFROM:-0600
TZOFFSETTO:-0500
TZNAME:CDT
DTSTART:20220313T080000
END:DAYLIGHT
BEGIN:STANDARD
TZOFFSETFROM:-0500
TZOFFSETTO:-0600
TZNAME:CST
DTSTART:20221106T070000
END:STANDARD
BEGIN:DAYLIGHT
TZOFFSETFROM:-0600
TZOFFSETTO:-0500
TZNAME:CDT
DTSTART:20230312T080000
END:DAYLIGHT
BEGIN:STANDARD
TZOFFSETFROM:-0500
TZOFFSETTO:-0600
TZNAME:CST
DTSTART:20231105T070000
END:STANDARD
END:VTIMEZONE
BEGIN:VEVENT
DTSTART;TZID=America/Chicago:20221230T180000
DTEND;TZID=America/Chicago:20221230T210000
DTSTAMP:20260424T124001
CREATED:20221214T170453Z
LAST-MODIFIED:20221214T170453Z
UID:221327-1672423200-1672434000@newspiritualhorizons.com
SUMMARY:000: Monthly Regrouping
DESCRIPTION:000: Monthly Regrouping:\n \n\n\nThis class is Virtual.
URL:https://newspiritualhorizons.com/event/000-monthly-regrouping/
CATEGORIES:Field
ORGANIZER;CN="Francisco Coll":MAILTO:fdcoll@me.com
END:VEVENT
END:VCALENDAR