BEGIN:VCALENDAR
VERSION:2.0
PRODID:-//New Spiritual Horizons - ECPv6.15.16.1//NONSGML v1.0//EN
CALSCALE:GREGORIAN
METHOD:PUBLISH
X-ORIGINAL-URL:https://newspiritualhorizons.com
X-WR-CALDESC:Events for New Spiritual Horizons
REFRESH-INTERVAL;VALUE=DURATION:PT1H
X-Robots-Tag:noindex
X-PUBLISHED-TTL:PT1H
BEGIN:VTIMEZONE
TZID:America/Chicago
BEGIN:DAYLIGHT
TZOFFSETFROM:-0600
TZOFFSETTO:-0500
TZNAME:CDT
DTSTART:20220313T080000
END:DAYLIGHT
BEGIN:STANDARD
TZOFFSETFROM:-0500
TZOFFSETTO:-0600
TZNAME:CST
DTSTART:20221106T070000
END:STANDARD
BEGIN:DAYLIGHT
TZOFFSETFROM:-0600
TZOFFSETTO:-0500
TZNAME:CDT
DTSTART:20230312T080000
END:DAYLIGHT
BEGIN:STANDARD
TZOFFSETFROM:-0500
TZOFFSETTO:-0600
TZNAME:CST
DTSTART:20231105T070000
END:STANDARD
BEGIN:DAYLIGHT
TZOFFSETFROM:-0600
TZOFFSETTO:-0500
TZNAME:CDT
DTSTART:20240310T080000
END:DAYLIGHT
BEGIN:STANDARD
TZOFFSETFROM:-0500
TZOFFSETTO:-0600
TZNAME:CST
DTSTART:20241103T070000
END:STANDARD
BEGIN:DAYLIGHT
TZOFFSETFROM:-0600
TZOFFSETTO:-0500
TZNAME:CDT
DTSTART:20250309T080000
END:DAYLIGHT
BEGIN:STANDARD
TZOFFSETFROM:-0500
TZOFFSETTO:-0600
TZNAME:CST
DTSTART:20251102T070000
END:STANDARD
END:VTIMEZONE
BEGIN:VEVENT
DTSTART;TZID=America/Chicago:20240121T110000
DTEND;TZID=America/Chicago:20240121T150000
DTSTAMP:20260424T214843
CREATED:20240109T004738Z
LAST-MODIFIED:20240109T004738Z
UID:225997-1705834800-1705849200@newspiritualhorizons.com
SUMMARY:5003: Spiritual Freedom Series Workshop Part 2
DESCRIPTION:5003: Spiritual Freedom Series Workshop Part 2:\nLIVE EVENT ONLY\n \n1.       This is the second step in the Spiritual Freedom Series of the Wayshowers College.\n\n2.      This program is broken down into two parts – Part 1 (5002) deals with expanding your concepts of who you really are\, how you work with your Guidance and understanding your loyalties. \n\n3.      Part 2 (5003) will work with discovering your “niche” in life and learning to direct your energy for success and the many choices you have. \n\n4.      You will experience many techniques to help you clear your energy\, heal concepts and expand your spiritual freedom. \n\n5.      You will come away with basic tools to help you fulfil your purpose. \n\n \n\nThis class is In Person.
URL:https://newspiritualhorizons.com/event/5003-spiritual-freedom-series-workshop-part-2-2/
LOCATION:Enchanted Forest Reiki Center\, 2280 S. Jones Blvd.\, Las Vegas\, NV\, 89146
CATEGORIES:Field
ORGANIZER;CN="April Azzolino":MAILTO:aprilazzolino@gmail.com
GEO:36.1464942;-115.2247168
X-APPLE-STRUCTURED-LOCATION;VALUE=URI;X-ADDRESS=Enchanted Forest Reiki Center 2280 S. Jones Blvd. Las Vegas NV 89146;X-APPLE-RADIUS=500;X-TITLE=2280 S. Jones Blvd.:geo:-115.2247168,36.1464942
END:VEVENT
BEGIN:VEVENT
DTSTART;TZID=America/Chicago:20240114T110000
DTEND;TZID=America/Chicago:20240114T150000
DTSTAMP:20260424T214843
CREATED:20240109T004513Z
LAST-MODIFIED:20240109T004513Z
UID:225988-1705230000-1705244400@newspiritualhorizons.com
SUMMARY:5002: Embrace Your Spiritual Freedom Workshop Part 1
DESCRIPTION:5002: Embrace Your Spiritual Freedom Workshop Part 1:\nLIVE EVENT ONLY \n1.       This is the second step in the Spiritual Freedom Series of the Wayshowers College.\n\n2.      This program is broken down into two parts – Part 1 (5002) deals with expanding your concepts of who you really are\, how you work with your Guidance and understanding your loyalties. \n\n3.      Part 2 (5003) will work with discovering your “niche” in life and learning to direct your energy for success and the many choices you have. \n\n4.      You will experience many techniques to help you clear your energy\, heal concepts and expand your spiritual freedom. \n\n5.      You will come away with basic tools to help you fulfil your purpose. \n\n \n\nThis class is In Person.
URL:https://newspiritualhorizons.com/event/5002-embrace-your-spiritual-freedom-workshop-part-1-2/
LOCATION:Enchanted Forest Reiki Center\, 2280 S. Jones Blvd. Las Vegas\, N 89146
CATEGORIES:Field
ORGANIZER;CN="April Azzolino":MAILTO:aprilazzolino@gmail.com
GEO:36.1464942;-115.2247168
X-APPLE-STRUCTURED-LOCATION;VALUE=URI;X-ADDRESS=Enchanted Forest Reiki Center 2280 S. Jones Blvd. Las Vegas N 89146;X-APPLE-RADIUS=500;X-TITLE=2280 S. Jones Blvd. Las Vegas\, N 89146:geo:-115.2247168,36.1464942
END:VEVENT
BEGIN:VEVENT
DTSTART;TZID=America/Chicago:20231230T140000
DTEND;TZID=America/Chicago:20240101T180000
DTSTAMP:20260424T214843
CREATED:20231229T181534Z
LAST-MODIFIED:20231229T181534Z
UID:225762-1703944800-1704132000@newspiritualhorizons.com
SUMMARY:783: Magnetizing My Future with Positive Energy
DESCRIPTION:783: Magnetizing My Future with Positive Energy:\n \n1.      In this course you will regroup your past six months to see what you have been doing for yourself spiritually.\n\n2.      You will find out how you may be wasting some of your energy by being under the pressure of man-made time or by yearning.\n\n3.      You will discover new ways to utilize your time and energy and live your life to the fullest.\n\n4.      You will get a big picture of your life and what you will be doing spiritually for the next six months by experiencing “Magnetizing My Future.”\n \n\nThis class is Virtual.
URL:https://newspiritualhorizons.com/event/783-magnetizing-my-future-with-positive-energy/
CATEGORIES:Field
ORGANIZER;CN="Ruth McKee":MAILTO:ruthmckee146@gmail.com
END:VEVENT
END:VCALENDAR