BEGIN:VCALENDAR
VERSION:2.0
PRODID:-//New Spiritual Horizons - ECPv6.15.16.1//NONSGML v1.0//EN
CALSCALE:GREGORIAN
METHOD:PUBLISH
X-ORIGINAL-URL:https://newspiritualhorizons.com
X-WR-CALDESC:Events for New Spiritual Horizons
REFRESH-INTERVAL;VALUE=DURATION:PT1H
X-Robots-Tag:noindex
X-PUBLISHED-TTL:PT1H
BEGIN:VTIMEZONE
TZID:America/Chicago
BEGIN:DAYLIGHT
TZOFFSETFROM:-0600
TZOFFSETTO:-0500
TZNAME:CDT
DTSTART:20230312T080000
END:DAYLIGHT
BEGIN:STANDARD
TZOFFSETFROM:-0500
TZOFFSETTO:-0600
TZNAME:CST
DTSTART:20231105T070000
END:STANDARD
BEGIN:DAYLIGHT
TZOFFSETFROM:-0600
TZOFFSETTO:-0500
TZNAME:CDT
DTSTART:20240310T080000
END:DAYLIGHT
BEGIN:STANDARD
TZOFFSETFROM:-0500
TZOFFSETTO:-0600
TZNAME:CST
DTSTART:20241103T070000
END:STANDARD
BEGIN:DAYLIGHT
TZOFFSETFROM:-0600
TZOFFSETTO:-0500
TZNAME:CDT
DTSTART:20250309T080000
END:DAYLIGHT
BEGIN:STANDARD
TZOFFSETFROM:-0500
TZOFFSETTO:-0600
TZNAME:CST
DTSTART:20251102T070000
END:STANDARD
BEGIN:DAYLIGHT
TZOFFSETFROM:-0600
TZOFFSETTO:-0500
TZNAME:CDT
DTSTART:20260308T080000
END:DAYLIGHT
BEGIN:STANDARD
TZOFFSETFROM:-0500
TZOFFSETTO:-0600
TZNAME:CST
DTSTART:20261101T070000
END:STANDARD
END:VTIMEZONE
BEGIN:VEVENT
DTSTART;TZID=America/Chicago:20250118T160000
DTEND;TZID=America/Chicago:20250118T190000
DTSTAMP:20260425T165147
CREATED:20241224T200941Z
LAST-MODIFIED:20241224T200941Z
UID:238986-1737216000-1737226800@newspiritualhorizons.com
SUMMARY:3091: Exploration into the Intellect and Mystical Freedom
DESCRIPTION:3091: Exploration into the Intellect and Mystical Freedom:\nWe have the power to manifest the joy\, fulfillment and happiness which already resides in your mystical nature through the proper use of our intellect. In reality\, the Intellect is there to be of service to our mystical nature\, our true crystal clear Feelings. \nThe intellect is the spokesperson for our feelings. It organizes the steps needed to accomplish and communicate our true feelings. Left unchecked\, the intellect may begin believing it knows the path our feelings want to take. This puts us at risk of creating a habit of ignoring our feelings all together. The result is that our true communication is distorted. We may even find ourselves feeling disconnected and unfulfilled\, far away from the path we envisioned.  \n \n1.      In this course you will discover the true role of your Intellectual nature and learn to use it for your benefit. \n\n2.      You will start re-establishing and learn to maintain a balance between your Intellectual nature and your Feeling (mystical) nature through simple Techniques you can use in your everyday life.  This will help you reach your goals more easily. \n\n3.      You will experience Techniques to stay relaxed but alert to help you release your inner freedom. \n\n4.      You will unfold your inner honesty for greater success in your daily life. \n\n5.      You will discover some of the ways you have been using to limit your freedom and experience how easy it is to release these habits and replace them with new ones.\nJanuary 18\, 2025 4pm-7pm Central Time  \nCost $60   Spiritual Freedom Series Monthly Regrouping Members pay only $50 via PayPal Almap916@aol.com or Venmo @Alma-Phillips-2 by January 17\n\n\n\n\n\nThis class is Virtual.
URL:https://newspiritualhorizons.com/event/3091-exploration-into-the-intellect-and-mystical-freedom/
CATEGORIES:Field
ORGANIZER;CN="Alma Phillips":MAILTO:almap916@aol.com
END:VEVENT
BEGIN:VEVENT
DTSTART;TZID=America/Chicago:20241214T160000
DTEND;TZID=America/Chicago:20241214T210000
DTSTAMP:20260425T165147
CREATED:20241204T170136Z
LAST-MODIFIED:20241204T170136Z
UID:236603-1734192000-1734210000@newspiritualhorizons.com
SUMMARY:626: Refining your Healing Vibration
DESCRIPTION:626: Refining your Healing Vibration:\nI cannot change myself for I am already perfect. WOW! This is a great example of a high vibrational thought! A thought of self-love. A thought of healing. To heal others\, I begin by healing myself.  This course is an opportunity for you to tune into the practices and habits of your current daily life and identify how loving you are presently being to yourself\, and to identify and align with a more healing path going forward.  Participating in courses and other offerings every month are a great way to keep our enthusiasm and vibration high. \n  \nThis course is recommended by Tiger Coll for the month of December.   \n  \nDecember 14 4-9pm ZOOM \n  \nCourse Cost 75$\, Monthly Regrouping Members Only price 60$ \nPaypal AlmaP916@aol.com or Venmo @Alma-Phillips-2 \n \n1.      In this course you will focus your energy on the healing center within through the use of special Techniques.\n\n2.      You will realize how thought patterns can limit your freedom by creating doubt\, pressures\, worry and negativity.\n\n3.      You will learn how it feels when you accept the good\, kind\, loving part of you as the Real You.\n\n4.      You will discover how trusting yourself is a major step toward spiritual freedom.\n\n5.      You will see how you create your own heaven here on earth.\n \n\n\nThis class is Virtual.
URL:https://newspiritualhorizons.com/event/626-refining-your-healing-vibration/
CATEGORIES:Field
ORGANIZER;CN="Alma Phillips":MAILTO:almap916@aol.com
END:VEVENT
BEGIN:VEVENT
DTSTART;TZID=America/Chicago:20241123T160000
DTEND;TZID=America/Chicago:20241123T210000
DTSTAMP:20260425T165147
CREATED:20241024T162521Z
LAST-MODIFIED:20241024T162521Z
UID:234044-1732377600-1732395600@newspiritualhorizons.com
SUMMARY:4403: Successful Living Through Inner Motivation
DESCRIPTION:4403: Successful Living Through Inner Motivation:\nCourse of the Month November 2024 (as recommended by Tiger Coll) \nSuccess! What a great feeling! \nOur confidence soars when we accomplish even a small goal. That sense of victory is a result of inner motivation\, being true to ourselves. Learning to communicate with  a solid trust in yourself and your guidance are key to having those amazing feelings of success.  \nA conflict of interest can prevent us from experiencing a relaxed and joyful life.  The conflict is created when we attempt to live with motives outside of our selves vs our own inner motivation.  We love to back and encourage others to their success\, but our enthusiasm may falter when we leave our selves out.   \nLets dig in and discover the qualities of living a life through inner motivation for increased quality of life\, levels of relaxation and joy of our personal successes. \n  \nSaturday November 23\, 2024 4 pm CT.   \nSpecial pricing this month only $100 USD(regularly $250).  Discounts available to paid attendees of Tiger’s current tour.   \nIn this course you will learn to build a momentum of accomplishment that is stimulating and exciting. You will feel like an arrow of energy with inner authority\, enthusiasm and confidence. You will learn to make life a fun adventure\, full of challenges and growth. You will delve into what success is all about for yourself. \n \n\n\n\n\nThis class is In Person and Virtual.
URL:https://newspiritualhorizons.com/event/4403-successful-living-through-inner-motivation/
LOCATION:Camp Osceola\, 1447 Highway 69\, Osceola\, Iowa\, 50213-8302
CATEGORIES:Field
ORGANIZER;CN="Alma Phillips":MAILTO:almap916@aol.com
END:VEVENT
END:VCALENDAR