BEGIN:VCALENDAR
VERSION:2.0
PRODID:-//New Spiritual Horizons - ECPv6.15.16.1//NONSGML v1.0//EN
CALSCALE:GREGORIAN
METHOD:PUBLISH
X-WR-CALNAME:New Spiritual Horizons
X-ORIGINAL-URL:https://newspiritualhorizons.com
X-WR-CALDESC:Events for New Spiritual Horizons
REFRESH-INTERVAL;VALUE=DURATION:PT1H
X-Robots-Tag:noindex
X-PUBLISHED-TTL:PT1H
BEGIN:VTIMEZONE
TZID:America/Chicago
BEGIN:DAYLIGHT
TZOFFSETFROM:-0600
TZOFFSETTO:-0500
TZNAME:CDT
DTSTART:20190310T080000
END:DAYLIGHT
BEGIN:STANDARD
TZOFFSETFROM:-0500
TZOFFSETTO:-0600
TZNAME:CST
DTSTART:20191103T070000
END:STANDARD
BEGIN:DAYLIGHT
TZOFFSETFROM:-0600
TZOFFSETTO:-0500
TZNAME:CDT
DTSTART:20200308T080000
END:DAYLIGHT
BEGIN:STANDARD
TZOFFSETFROM:-0500
TZOFFSETTO:-0600
TZNAME:CST
DTSTART:20201101T070000
END:STANDARD
BEGIN:DAYLIGHT
TZOFFSETFROM:-0600
TZOFFSETTO:-0500
TZNAME:CDT
DTSTART:20210314T080000
END:DAYLIGHT
BEGIN:STANDARD
TZOFFSETFROM:-0500
TZOFFSETTO:-0600
TZNAME:CST
DTSTART:20211107T070000
END:STANDARD
END:VTIMEZONE
BEGIN:VEVENT
DTSTART;TZID=America/Chicago:20200426T110000
DTEND;TZID=America/Chicago:20200426T140000
DTSTAMP:20260424T060718
CREATED:20200419T113307Z
LAST-MODIFIED:20200426T123703Z
UID:215428-1587898800-1587909600@newspiritualhorizons.com
SUMMARY:Experiencing My Inner Harmony
DESCRIPTION:Learn a meditation technique that is simpler and more practical than traditional Eastern meditation. \nYou’ll instantly go to your Sea of Tranquility and Connect with your Team of Guardian Angels for solutions. You can take this tool home with you to use often to be in harmony and balance and stay in the POSITIVE VIBRATION and FEELINGS that will manifest what you most desire in life. \nYou will come back to your real spiritual nature – Your True Feelings. The more you can be in BALANCE with your intellect and feelings\, and BE in your true feelings\, you will live a life of joy\, ease and abundance.
URL:https://newspiritualhorizons.com/event/experiencing-my-inner-harmony/
CATEGORIES:New Spiritual Horizons,Wellness,Workshops
ATTACH;FMTTYPE=image/jpeg:https://www.wayshowerscollege.net/nsh01/wp-content/uploads/sites/3/2020/04/NSH3090-inner-harmony-tXnqpE.tmp_-Nni0Ot.tmp_.jpg
ORGANIZER;CN="Kristina Coll":MAILTO:kristina@kristinacoll.com
END:VEVENT
END:VCALENDAR