BEGIN:VCALENDAR
VERSION:2.0
PRODID:-//New Spiritual Horizons - ECPv6.15.16.1//NONSGML v1.0//EN
CALSCALE:GREGORIAN
METHOD:PUBLISH
X-WR-CALNAME:New Spiritual Horizons
X-ORIGINAL-URL:https://newspiritualhorizons.com
X-WR-CALDESC:Events for New Spiritual Horizons
REFRESH-INTERVAL;VALUE=DURATION:PT1H
X-Robots-Tag:noindex
X-PUBLISHED-TTL:PT1H
BEGIN:VTIMEZONE
TZID:America/New_York
BEGIN:DAYLIGHT
TZOFFSETFROM:-0500
TZOFFSETTO:-0400
TZNAME:EDT
DTSTART:20150308T070000
END:DAYLIGHT
BEGIN:STANDARD
TZOFFSETFROM:-0400
TZOFFSETTO:-0500
TZNAME:EST
DTSTART:20151101T060000
END:STANDARD
BEGIN:DAYLIGHT
TZOFFSETFROM:-0500
TZOFFSETTO:-0400
TZNAME:EDT
DTSTART:20160313T070000
END:DAYLIGHT
BEGIN:STANDARD
TZOFFSETFROM:-0400
TZOFFSETTO:-0500
TZNAME:EST
DTSTART:20161106T060000
END:STANDARD
BEGIN:DAYLIGHT
TZOFFSETFROM:-0500
TZOFFSETTO:-0400
TZNAME:EDT
DTSTART:20170312T070000
END:DAYLIGHT
BEGIN:STANDARD
TZOFFSETFROM:-0400
TZOFFSETTO:-0500
TZNAME:EST
DTSTART:20171105T060000
END:STANDARD
BEGIN:DAYLIGHT
TZOFFSETFROM:-0500
TZOFFSETTO:-0400
TZNAME:EDT
DTSTART:20180311T070000
END:DAYLIGHT
BEGIN:STANDARD
TZOFFSETFROM:-0400
TZOFFSETTO:-0500
TZNAME:EST
DTSTART:20181104T060000
END:STANDARD
END:VTIMEZONE
BEGIN:VTIMEZONE
TZID:America/Los_Angeles
BEGIN:DAYLIGHT
TZOFFSETFROM:-0800
TZOFFSETTO:-0700
TZNAME:PDT
DTSTART:20160313T100000
END:DAYLIGHT
BEGIN:STANDARD
TZOFFSETFROM:-0700
TZOFFSETTO:-0800
TZNAME:PST
DTSTART:20161106T090000
END:STANDARD
BEGIN:DAYLIGHT
TZOFFSETFROM:-0800
TZOFFSETTO:-0700
TZNAME:PDT
DTSTART:20170312T100000
END:DAYLIGHT
BEGIN:STANDARD
TZOFFSETFROM:-0700
TZOFFSETTO:-0800
TZNAME:PST
DTSTART:20171105T090000
END:STANDARD
BEGIN:DAYLIGHT
TZOFFSETFROM:-0800
TZOFFSETTO:-0700
TZNAME:PDT
DTSTART:20180311T100000
END:DAYLIGHT
BEGIN:STANDARD
TZOFFSETFROM:-0700
TZOFFSETTO:-0800
TZNAME:PST
DTSTART:20181104T090000
END:STANDARD
END:VTIMEZONE
BEGIN:VEVENT
DTSTART;TZID=America/New_York:20170827T100000
DTEND;TZID=America/New_York:20170827T170000
DTSTAMP:20260420T230241
CREATED:20171219T053253Z
LAST-MODIFIED:20180731T213710Z
UID:2939-1503828000-1503853200@newspiritualhorizons.com
SUMMARY:Communicate with Inner Guidance-Virginia
DESCRIPTION:During the Connect with Inner Guidance Workshop you will: \n\nEstablish a direct\, two-way communication with your Inner Guidance\nReceive answers immediately to any question you would like to ask your spiritual team of master souls.\nRealize you are never alone.\nDiscover how your guides KNOW your life purpose & can steer you in the right direction toward joy\, abundance and fulfillment.\nRaise your energy vibration instantly to be “tuned in” with your team.\nLearn a quick and easy method of daily meditation with your guidance so you can receive their ideas\, inspirations and suggestions for your life success\nTake home your personal Orientation Profile outlining how many spirit guides you have\, how they communicate with you\, your energy sensitivity level and your primary gift of Intuition\, Vision\, Prophecy or Feeling.\n\nYou’ll also receive a 30 page Connect with Inner Guidance workbook. \nIf you have already experienced this workshop we welcome you to return for Swing Update showing how far you have progressed and if you have additional guidance or angels working with you at this time for a specific purpose. \n6 hours $125 in Advance/$150 at the door
URL:https://newspiritualhorizons.com/event/communicate-with-inner-guidance-virginia/
LOCATION:Inner Peace Wellness\, 5225 Geo. Wash. Mem. Hwy\, Yorktown\, VA\, 23692\, United States
CATEGORIES:Lectures & Seminars,Lectures & Workshops,New Spiritual Horizons
ATTACH;FMTTYPE=image/jpeg:https://www.wayshowerscollege.net/nsh01/wp-content/uploads/sites/3/2017/12/Spiritual-Guides.jpeg
ORGANIZER;CN="Alma Phillips":MAILTO:almap916@aol.com
GEO:37.157625;-76.4630687
X-APPLE-STRUCTURED-LOCATION;VALUE=URI;X-ADDRESS=Inner Peace Wellness 5225 Geo. Wash. Mem. Hwy Yorktown VA 23692 United States;X-APPLE-RADIUS=500;X-TITLE=5225 Geo. Wash. Mem. Hwy:geo:-76.4630687,37.157625
END:VEVENT
BEGIN:VEVENT
DTSTART;TZID=America/New_York:20170822T080000
DTEND;TZID=America/New_York:20171003T170000
DTSTAMP:20260420T230241
CREATED:20171219T053252Z
LAST-MODIFIED:20180731T213710Z
UID:2936-1503388800-1507050000@newspiritualhorizons.com
SUMMARY:“Spiritual Awakening: Understanding the Changes in Our Lives” National Tour With John Shortell
DESCRIPTION:JOHN SHORTELL SHARES ABOUT HIS SEMINAR/WORKSHOP TOUR — CLICK HERE FOR VIDEO \n \nSeveral years ago\, successful Australian businessman John Shortell was involved in a Near Death Experience (NDE) in a catastrophic car wreck\, which doctors and surgeons did not expect him to survive. \nJohn is far from alone in his experience.  A cover feature in Time Magazine in 2008 reported that more than half of all Americans believed they had been helped by Guardian Angels at some time in their life.   \nA business owner and father\, John has been working consciously with his Angels and learning more about them all his life. In the mid-eighties\, he started teaching others how to also connect with their Angels quite deliberately. \nJohn will be embarking on a speaking tour of the United States beginning late August 2017 on this now life skill. \n“We all have intuition and every day we receive inspirations and solutions to situations.  However most of the time we don’t hear them\, understand them\, or know how to interpret them – or we may even talk ourselves out of them\,” John says. \nHave you ever thought of someone and then the phone rang and it was them? Have you ever rung someone and had them say ‘I was just thinking about you’?  These are not coincidences. Coincidence is a word we use when we can’t explain what just happened.  How would your life be if you were able to use this tool consciously?  Well you can\, using this intuition can be a very useful tool in our lives. \nJohn believes when we listen more to our intuition and ‘inner guidance’ we end up at the right place at the right time. Many businessmen call this gift ‘hunches’ or ‘gut instinct’.  These seminars are designed to help you understand how to receive answers from your intuition more clearly.  \nAs a life coach\, John is passionate about helping people enjoy their lives more and helping them understand better the circumstances that are happening to them.  John shares the importance of trusting ourselves\, listening to the insights of our Angels and not talking ourselves out of the often-subtle inspirations and ideas that make life easier and smoother. \nJohn is a member of the Board of Directors of IPM International\, Inc.\, an educational\, non-profit organization that sponsor Inner Peace Movement and New Spiritual Horizon programs. \nJohn’s Upcoming Programs\n\nAugust 22 (Tues):  Rhode Island\nIntroductory Seminar: Discovering the Real You\, Fee: $20 – 1 pm or 7:30 pm.  Venue: Rhode Island Shrine Center\, One Rhodes Place\, Cranston\, RI.  \nAugust 23 (Wed)             \n  Energy Dynamics Workshop. Fee: $40 – 1 to 4pm or 7 to 10pm. Venue: Rhode Island Shrine Center\, One place\, Cranston\, RI  \nLOCAL CONTACT: Sheila Enos 401-206-1098 \n\n\n\n August 30 (Wed)\nIntroductory Seminar with Energy Techniques. Fee: $20.  Twice: 9:30 – 11 am or 6:30 – 8 pm.  \nEnergy Dynamics Workshop. Fee: $40 – (Both Seminar & Workshop $50). Twice: 11:30 am – 2 pm or 8 – 10 pm.   \nLunch will be available at hotel between 11-11:30 from menu ranging from $8-20. \nVenue: HYATT House\, 54 Fourth Ave.\, Waltham\, MA 02451 \nLOCAL CONTACT: Maria Vistica\, 774-778-3117 \nAugust 31 (Thurs)\nSeminar Understanding Your life and Creating Magic In It. Fee: $20. 6:30 – 8 pm.  \nEnergy Dynamics Workshop. Fee: $40. 8pm – 10.30 pm.\n \nAttend Both Seminar & Workshop – $50\n \nVenue: Rhode Island Shrine Center\, One place\, Cranston\, RI \nSpace limited we strongly book in advance at (800) 336 8008  \n  \n\nSeptember 6 (Wed) Virginia\nSpiritual Awakening: Understanding the Changes in Our Lives. Fee $20 – 8-9:30 pm.  Venue:  Inner Peace Wellness\, 5225 Geo. Wash. Memorial Hwy\, Yorktown\, VA \nLOCAL CONTACT: Amanda Jackson 757-570-2957  \nGET THE FULL DETAILS \n  \n\nSeptember 7 (Thurs) Virginia\nExploring the Practical Solutions of Your Spiritual Awakening. Fee $40 – 7-10PM. Venue: Inner Peace Wellness\, 5225 Geo. Wash. Memorial Hwy\, Yorktown\, VA \nGET THE DETAILS \n  \n\n  \n\nSeptember 26 (Tues.):    Oregon\nUnderstanding the Changes in Our Lives. Fee: $20 – 7:30 – 9 pm. Venue – Portland Marriott Downtown Waterfront\, Columbia Room\, 1401 SW Naito Parkway\, Portland\, Oregon 97210  \nLocal Contact: John Pease  503-869-9104 \nGET THE DETAILS \n  \n\nSeptember 27 (Wed.)   \nSpiritual Awakening Techniques Workshop. Fee $40 – 7 – 10 pm.  Venue : Portland Marriott Downtown Waterfront\, Columbia Room\, 1401 SW Naito Parkway\, Portland\, OR 97210. \n LOCAL CONTACT: John Pease 503-869-9104 \n  \n  \n  \n\nOctober 3 (Tues) New Mexico\nYou Don’t Need to Have a Near Death Experience to Transform Your Life. Fee: $20 – 10 am or 6 pm (two times to attend) \nSeminar: Spiritual Awakening – Harness Your Inner Power & Sensitivity. Fee: $40 – 1-4 pm or 7 -10 pm   (Attend both Presentation & Seminar $50)  Venue:   Embassy Suites Hotel\, Woodward Pl. NE\, Albuquerque\, NM \nJohn Shortell in New Mexico \nLOCAL CONTACT: Dorinda Fox 505-771-8690
URL:https://newspiritualhorizons.com/event/spiritual-awakening-understanding-the-changes-in-our-lives-national-tour-with-john-shortell/
CATEGORIES:Lectures & Seminars,Lectures & Workshops,New Spiritual Horizons
END:VEVENT
BEGIN:VEVENT
DTSTART;TZID=America/Los_Angeles:20170812T160000
DTEND;TZID=America/Los_Angeles:20170812T193000
DTSTAMP:20260420T230241
CREATED:20171114T121255Z
LAST-MODIFIED:20180731T213710Z
UID:2684-1502553600-1502566200@newspiritualhorizons.com
SUMMARY:Re-define Your Life Purpose\,Your Energy\, and Your Psychic Gifts-Las Vegas
DESCRIPTION:Preregister by August 7 and the Investment is $50.00; after August 7 -$60.00; register at Enchanted Forest Reiki Center. Class Date August 12\, 2017 \nStart tapping the wisdom of your Inner guidance\, trusting your psychic gifts and become your best channel for connecting with your own team of angels which can bring tremendous insights and healing to your life. \nExperience the big picture of your lifetime now on Planet Earth and what this means to you-where you came from\, why you are here and where you are going? \nRenew your relationship with yourself\, family\, and friends and energize your true feelings and what they mean to you. \nRealize how powerful you are are as a receiver and sender of Intuitive and Healing energy. \nLearn a technique in attuning yourself to the highest energy in keeping your Aura clear. \nDiscover the Psychic Gifts and how they work when in-balance or out-balance aspects of communication which can help you in your personal and business life. \nParticipate in sharing with others and energy dynamic techniques which will guide you as a soul vibration. \nThis is a Life Activation Class which will propel you in lifting you in your spiritual journey. \nApril Azzolino\,www.aprilazzolino.com\, is a Angel Communication Coach/Spiritual Guidance Coach/Educator with Wayshowers College and facilitates New Spiritual Horizons Workshops/Seminars\,www.newspiritualhorizons.com \nShe loves guiding individuals in community workshop and teaching tools for leading a practical spiritual life. \nTickets: http://enchantedforestreiki.com.
URL:https://newspiritualhorizons.com/event/re-define-your-life-purposeyour-energy-and-your-psychic-gifts-las-vegas/
LOCATION:Enchanted Forest Reiki Center\, 2280 S Jones Blvd\, Las Vegas\, NV\, 89146\, United States
CATEGORIES:Lectures & Seminars,Lectures & Workshops,New Spiritual Horizons
ATTACH;FMTTYPE=image/png:https://www.wayshowerscollege.net/nsh01/wp-content/uploads/sites/3/2017/11/NSH_promo_image_sq-01-1.png
GEO:36.1464942;-115.2247168
X-APPLE-STRUCTURED-LOCATION;VALUE=URI;X-ADDRESS=Enchanted Forest Reiki Center 2280 S Jones Blvd Las Vegas NV 89146 United States;X-APPLE-RADIUS=500;X-TITLE=2280 S Jones Blvd:geo:-115.2247168,36.1464942
END:VEVENT
BEGIN:VEVENT
DTSTART;TZID=America/New_York:20161231T090000
DTEND;TZID=America/New_York:20170108T170000
DTSTAMP:20260420T230241
CREATED:20171113T120058Z
LAST-MODIFIED:20180131T131608Z
UID:2652-1483174800-1483894800@newspiritualhorizons.com
SUMMARY:Join Tiger Coll at the Australia and New Zealand Summer Camp 2017
DESCRIPTION:Australia and New Zealand are so pleased to announce our new Summer Camp for the end of 2016 to early 2017!\nIt will be a dynamic program with Tiger Coll in Melbourne\, Australia. Running from the 31st of December 2016 to the 8th of January to bring in the New Year with our gifted leaders\, inspiring you towards a better self understanding!\nGo where Summer Is!\n\n\n\nNew Spiritual Horizons  \nThis name is now used to describe the 12 weeks of group work plus mini courses.  It will be the main program that we promote.  The Program begins with the Orientation Lecture\, has a brand new 3 to 4 hour Workshop (second Night)  and has been empowered with nine spiritually checked\, no prerequisite mini courses that bring depth and power – an immersion – to a person’s group work experience.  The sequence follows the New Spiritual Horlzon’s Group Work Manual.  Every two weeks a mini course is instructed that fits with the Chapters of Man and the Universe the techniques of those weeks  \nHere is the sequence:  \n\nOrientation Lecture \nOrientation Workshop (can be a combo)\nWeek 1 and 2\nCourse 4092:    The Real Me – A Spiritual Being\nWeek 3 and 4\nCourse 3090:    Experience My Inner Harmony\nWeek 5 and 6 \nCourse 7093:    Giving Crystal Clear Vibration\nWeek 7and 8:  \nCourse 596:    On Schedule with Your Plans\nWeek 9 and 10\nCourses 3096 and 3097:  Motivation through Mystical Vision; Motivation through Mystical Prophecy\nWeek 11 and 12\nCourses 3095 and 3098:   Motivation through Mystical Intuition; Motivation through Mystical Feeling\nProgram wrap up:  Course 7091:    The Wealth of Your Metaphysical Nature\n\nNotice that the courses chosen are from several of our departments.  This will allow you to use New Spiritual Horizons to lead into the key movement with which you may working.  The New Spiritual Horizons Program can flow for as much as 24 weeks.   \nNew Spiritual Horizons Group Series  (proposed name to use) \nThis is our basic 12 weeks of group work.  Nothing has changed here – this group starts with a Lecture and Technique Workshop\, etc.  \nNew Spiritual Horizons Seminar Series  (proposed name to use) \nPeople can take the mini-courses\, only\, following them in sequence to get the best of benefits\, or drop in and take just one or two.  Be sure to start with a Lecture\, as always.  \nNew Spiritual Horizons Submersion Series \nWeekend Intensives that incorporate various compacted facets of the 12 weeks and mini-courses.  It includes a comprehensive workbook for each facet and is conducted by a 1001 or above Consultant trained in how to present the program.  \nThe training that will be provided at Camp is in the “How to Present the New Spiritual Horizons Submersion Series” \n\n7013 – Living Thrust Profile\n\n\nYou may have experienced this in a camp Tiger put on a few years ago. This Course provided you with the training to present the profile that does the Thrust of a Spirt Guide. The profile alone\, normally costs $1300 (cheaper in camp package). \n  \n Special Package Prices:\n\n\n\n\nCamp Accommodation:\nA few accommodation choices are available dependent on your budget:\n\n\nSkyways Hotel – (the venue we will be holding the courses) have double and queen size rooms which range from $115 to $125 per night (not including 10% Discount). 3.5 Star accommodation.\n\n\n\nPunt Hill Essendon Grand – 142 Mount Alexander Road\, 3040 Melbourne\, Australia  $195 per night for QS Studio\, 15 minute train ride from the venue. 4 Star accommodation.\n\n\n\nBest Western Airport Motel – 33 Ardlie Street\, Attwood\, Tullamarine\, 3049 Melbourne\, Australia – $141 per night – 15 minute drive from Airport\, 10 minute drive to Venue – 3.5 Star accommodation.\n\n\n\nMantra Tullamarine Hotel– Corner Melrose & Trade Park Drive\, Tullamarine\, $179 Executive Studio\, 9 minute drive to the Airport – 10 minute drive to the venue.  5.5 Star accommodation.\n\n\n\n\n\nPlease note: Pickup from the Airport available on the 30th December 2016 and Drop Off available after course hours on any day. A fee of $10 payable for all airport pickups and $10 for all airport drop-offs per trip.\n\n\n\nPre-Registration and           \n\n Pre-payment Essential!       REGISTER HERE
URL:https://newspiritualhorizons.com/event/join-tiger-coll-at-the-australia-and-new-zealand-summer-camp-2017/
LOCATION:Skyways Hotel\, 113 Matthews Avenue\, Airport West\, 3042\, Melbourne\, Australia
CATEGORIES:Camps & Retreats,Featured,Professional Training
ATTACH;FMTTYPE=image/png:https://www.wayshowerscollege.net/nsh01/wp-content/uploads/sites/3/2017/11/wc-master1.png
GEO:-37.7124992;144.8882503
X-APPLE-STRUCTURED-LOCATION;VALUE=URI;X-ADDRESS=Skyways Hotel 113 Matthews Avenue Airport West 3042 Melbourne Australia;X-APPLE-RADIUS=500;X-TITLE=113 Matthews Avenue\, Airport West\, 3042:geo:144.8882503,-37.7124992
END:VEVENT
BEGIN:VEVENT
DTSTART;TZID=America/New_York:20161112T140000
DTEND;TZID=America/New_York:20161112T153000
DTSTAMP:20260420T230241
CREATED:20171113T120056Z
LAST-MODIFIED:20180131T131608Z
UID:2649-1478959200-1478964600@newspiritualhorizons.com
SUMMARY:SATISFY YOUR THIRST – Find Answers to YOUR Intangible Questions
DESCRIPTION:Today you will find answers to why you are here\, learn about your life’s plan\, experience the inner security of interacting with your inner guidance\, and understand where fear comes from and how you can overcome its power.\nThe New Spiritual Horizons Program was designed for the sincere searcher who wants to have a better understanding of the reality of living on planet earth\, how to oversee life situations and challenges that arise\, be better at making decisions that are in your best interest\, and get more fun out of whatever you are doing.\n  \nIn this Seminar\, you will hear about:\n\nA bigger picture of life and how you fit in it\nUnderstand more about purpose in life\nSee where “balance” plays in your daily experiences\nUnderstand relationships more fully\nHear about your unique communication system\nGain insight into your cycles of life\nFind out how lack of understanding creates poor health\, misunderstandings and a confused decision-making process\nExperience techniques like “Thought Transference” and “Security Circle”\, and “Aura Vision”\, but most importantly the practical uses of these techniques.\n\nSATURDAY\, NOVEMBER 12\, 2-3:30PM – FEE $15 When preregistered\, $20 at the Door. Register online through Decatur Healing Arts’ Event Link – dha@decaturhealingarts.com \nPresented by Dawn Overstreet\, Educator and Consultant with Wayshowers College\, and conducting programs for over 40 years nationally and internationally. Contact: 540-524-0996 or enthusiasticdawn@gmail.com
URL:https://newspiritualhorizons.com/event/satisfy-your-thirst-find-answers-to-your-intangible-questions/
LOCATION:Decatur Healing Arts\, 619 E College Avenue\, Decatur\, GA\, 30030\, United States
CATEGORIES:Lectures & Workshops
ATTACH;FMTTYPE=image/png:https://www.wayshowerscollege.net/nsh01/wp-content/uploads/sites/3/2017/11/nsh-logo-web.png
GEO:33.7730215;-84.2857298
X-APPLE-STRUCTURED-LOCATION;VALUE=URI;X-ADDRESS=Decatur Healing Arts 619 E College Avenue Decatur GA 30030 United States;X-APPLE-RADIUS=500;X-TITLE=619 E College Avenue:geo:-84.2857298,33.7730215
END:VEVENT
BEGIN:VEVENT
DTSTART;TZID=America/New_York:20161024T190000
DTEND;TZID=America/New_York:20161024T213000
DTSTAMP:20260420T230241
CREATED:20171113T120054Z
LAST-MODIFIED:20180131T131607Z
UID:2646-1477335600-1477344600@newspiritualhorizons.com
SUMMARY:NEW SPIRITUAL HORIZONS Technique Series
DESCRIPTION:Starts Mon.\, Oct 24\, 2016 – 4 PM Pacific Standard Time (PST) –  7 PM Eastern Standard Time (EST)\nBenefits and outcomes of this technique series:\n\nMaking clear angel communication a way of life                                                                                              \nLearning meditation techniques for meditation made simple                                                                            \nHealing yourself through understanding                                                                                                          \nFinding direction in your life’s purpose\nEstablishing your feelings of belonging\nUnfolding your gifts of clairaudience\, clairvoyance\, prophecy and feeling\nDiscovering inklings of where you come from\, where you are going and what you are doing here \nOvercoming doubts\n Understanding your crystal clear motives to connect clearly with your good positive energy\, your true genius and team of angels. \n\nThis program is not a discussion group\, but an active\, weekly program that leaves people feeling energized and renewed\, with new information about themselves and their spiritual and material direction.\nFee: $12.00 (US dollars) per session.\nPrerequisite: Participants need to have attended at an Exploring Inner Dynamics Workshop\, or other IPM workshop or course.\nNote: If you have not had these prerequisites they are scheduled in certain communities or on-line.\nThis series is being facilitated by Patrick Kilhenny and Estelle Small\, both trained and certified by Wayshowers College\n \nEstelle Small \n\n \nPatrick Kilhenny \n\nTo find out more and Register – EMAIL Estelle\nor call 917-328-8950 (dial 001 if you are outside North America).
URL:https://newspiritualhorizons.com/event/new-spiritual-horizons-technique-series/
LOCATION:ONLINE OR IN PERSON\, United States
CATEGORIES:Lectures & Workshops
ATTACH;FMTTYPE=image/png:https://www.wayshowerscollege.net/nsh01/wp-content/uploads/sites/3/2017/11/nsh-logo-submersion.png
GEO:37.09024;-95.712891
END:VEVENT
BEGIN:VEVENT
DTSTART;TZID=America/New_York:20161008T103000
DTEND;TZID=America/New_York:20161010T170000
DTSTAMP:20260420T230241
CREATED:20171113T120053Z
LAST-MODIFIED:20180131T131607Z
UID:2644-1475922600-1476118800@newspiritualhorizons.com
SUMMARY:Overview of College President\, Tiger Coll’s\, Tour in New Jersey
DESCRIPTION:The New Spiritual Horizons Group Work programs of the Wayshowers College (Americana Leadership College) have been a guiding and healing light for thousands of spiritual searchers during the last 40 years!\n\n\n\n\n\n\nTIGER COLL\n\n\n\nCollege President\, Tiger Coll\, has refined these programs to help people travel more deeply in their personal growth. He has created new ways to offer the NSH programs in the community and train NSH leaders to reach more people in their communities – more abundantly! \nJoin Tiger and other Spiritual Educators in this new venture this fall! There is something for everyone at the Columbus Day Weekend Camp including a full Operation Action Program for our youth\, Healing Fellowships\, Trance Healing Tables and more! \nHere is an overview of the Camp schedule with details in each section below:\n\nNew Spiritual Horizons Submersion Workshop:  Saturday 10/8 – 10:30 to 5:30 pm and Sunday 10/9 9 am to 12 pm  CLICK HERE FOR DETAILS & REGISTER\nA Personal Regrouping – Rejection and Its Family: Sunday 10/9 – 1 to 6 pm                                                                                         CLICK HERE FOR DETAILS & REGISTER\nNew Spiritual Horizons Submersion Workshop Training: Monday 10/10 – 9 am to 4 pm                                                                         CLICK HERE FOR DETAILS & REGISTER\nOperation Action Youth Program: Saturday 10/8 – 10:30 to 5:30 pm and Sunday 10/9 – 9 am to 6 pm                                                   CLICK HERE FOR DETAILS\nAstro Soul Trance Healing Tables followed by Campfire Fellowship!  Saturday 10/8 – 7 pm                                                             CLICK HERE FOR DETAILS\nVenue Overview\, Prices and Directions: CLICK HERE FOR DETAILS & REGISTER\nPCC Annointing and Healing Circle during weekend\n\nMake sure to review each of the offerings during this weekend. There is indeed something for everyone!
URL:https://newspiritualhorizons.com/event/overview-of-college-president-tiger-colls-tour-in-new-jersey/
LOCATION:Princeton-Blairstown Center\, 158 Millbrook Road\, Blairstown\, NJ 07825
CATEGORIES:Camps & Retreats
ATTACH;FMTTYPE=image/jpeg:https://www.wayshowerscollege.net/nsh01/wp-content/uploads/sites/3/2017/11/tiger-coll.jpg
END:VEVENT
BEGIN:VEVENT
DTSTART;TZID=America/New_York:20161008T103000
DTEND;TZID=America/New_York:20161009T120000
DTSTAMP:20260420T230241
CREATED:20171113T120049Z
LAST-MODIFIED:20180131T131607Z
UID:2642-1475922600-1476014400@newspiritualhorizons.com
SUMMARY:Tiger Coll Presents New Spiritual Horizons Submersion Workshop in NJ
DESCRIPTION:NEW SPIRITUAL HORIZONS SUBMERSION WORKSHOP\nThis workshop is ‘Part I’ of a full exploration (submersion) into your personal & spiritual foundations.  You will be experiencing several weeks of New Spiritual Horizons Groupwork as well as 2 Mini courses connected to the expanded “New Spiritual Horizons Program.” \nWhether you have experienced New Spiritual Horizons program or not\, you will be getting-your-needs-met and feeling the fulfillment to ‘Purpose’. \nThere will be Spiritual & Material goal setting and reviews\, magnetizing & expanding your energy field\, practical technique intensives\, refining your sensitivity\,  buffer and expanding the vibration of your ‘purpose’ into daily life. \n                      “If you can’t be happy all the time\, something is wrong.” (Man and the Universe) \nPrerequisites: Have experienced a Man and the Universe Lecture; Highly recommended:  Orientation Profile. Recommendations: Thrust Profile\, Blockage Discovery Profile\, Groupwork \nTiming: Saturday\, October 8th 10:30AM to 5:30PM; Sunday\, October 9th 9:AM to 12:PM \nLocation: Princeton-Blairstown Center\, 158 Millbrook Road\, Blairstown\, NJ 07825 \nPrice: $175 Preregistration ($200 at the door)
URL:https://newspiritualhorizons.com/event/tiger-coll-presents-new-spiritual-horizons-submersion-workshop-in-nj/
LOCATION:Princeton-Blairstown Center\, 158 Millbrook Road\, Blairstown\, NJ 07825
CATEGORIES:Camps & Retreats
ATTACH;FMTTYPE=image/jpeg:https://www.wayshowerscollege.net/nsh01/wp-content/uploads/sites/3/2017/11/tiger-coll.jpg
END:VEVENT
END:VCALENDAR